BEGIN:VCALENDAR
VERSION:2.0
PRODID:-//wp-events-plugin.com//7.2.3.1//EN
TZID:America/Los_Angeles
X-WR-TIMEZONE:America/Los_Angeles
BEGIN:VEVENT
UID:14758@fakce.org
DTSTART;TZID=America/Los_Angeles:20221015T090000
DTEND;TZID=America/Los_Angeles:20221022T153000
DTSTAMP:20221007T173036Z
URL:https://fakce.org/events/tips-class-565-2022-10-15/
SUMMARY:Live: TIPS 565
DESCRIPTION:**FREE Lunch and Snack Provided!**\nTIPS is the 12 hour pre-ser
 vice training program that is required prior to being approved as a Resour
 ce Parent by the County of San Diego.  The TIPS training consists of 2\, 
 6-hour training sessions.\n\nYou are registering for TIPS 565.  The dates
  for each of the 2 sessions are as follows:\n\nSession 1 &amp\; 2\, Saturd
 ay October 15\, 2022\n\nSession 3 &amp\; 4\, Saturday October 22\, 2022\n\
 nYou will receive a confirmation of your registration by email.  The emai
 l will provide you with the first date on the class\, as well as the time 
 and location.  The dates for sessions 2\, 3 &amp\; 4 will not be provided
 .  Please make note of those dates or reference the main TIPS page.\nRegi
 stration will close on Friday\, October 14\, 2022 at 12pm
ATTACH;FMTTYPE=image/jpeg:https://fakce.org/wp-content/uploads/2015/03/200
 267549-001.jpg
CATEGORIES:TIPS Classes,TIPS Sessions
LOCATION:Metro-Balboa\, 8911 Balboa Ave.\, San Diego\, CA\, 92123\, United 
 States
GEO:32.8204791;-117.13626829999998
X-APPLE-STRUCTURED-LOCATION;VALUE=URI;X-ADDRESS=8911 Balboa Ave.\, San Dieg
 o\, CA\, 92123\, United States;X-APPLE-RADIUS=100;X-TITLE=Metro-Balboa:geo
 :32.8204791,-117.13626829999998
END:VEVENT
BEGIN:VTIMEZONE
TZID:America/Los_Angeles
X-LIC-LOCATION:America/Los_Angeles
BEGIN:DAYLIGHT
DTSTART:20220313T030000
TZOFFSETFROM:-0800
TZOFFSETTO:-0700
TZNAME:PDT
END:DAYLIGHT
END:VTIMEZONE
END:VCALENDAR