BEGIN:VCALENDAR
VERSION:2.0
PRODID:-//wp-events-plugin.com//7.2.3.1//EN
TZID:America/Los_Angeles
X-WR-TIMEZONE:America/Los_Angeles
BEGIN:VEVENT
UID:15522@fakce.org
DTSTART;TZID=America/Los_Angeles:20221210T093000
DTEND;TZID=America/Los_Angeles:20221210T120000
DTSTAMP:20230207T223304Z
URL:https://fakce.org/events/single-group-2022-12-10/
SUMMARY:In Person | Single Support Group
DESCRIPTION:Meets Every 2nd Saturday of the Month \nSupport Group Leader: 
 Sarah Becker | (858)775-3850\n\nBeing a single foster parent comes with it
 s own unique strengths and challenges. Especially when doing this solo\, t
 he support of the community is critical. This group will help you connect 
 with other parents and caregivers\, build community and grow your support 
 system. It will give you an opportunity to learn from others who are likel
 y experiencing similar struggles and successes that are unique to being a 
 single foster parent.\n\n***Note: No training will be offered at this time
 . The goal of this support group is to build support and community for res
 ource parents. \nLocation\nAddress will be shared after registration
ATTACH;FMTTYPE=image/jpeg:https://fakce.org/wp-content/uploads/2016/03/gir
 l-603511_1280.jpg
CATEGORIES:Support Groups
END:VEVENT
BEGIN:VTIMEZONE
TZID:America/Los_Angeles
X-LIC-LOCATION:America/Los_Angeles
BEGIN:STANDARD
DTSTART:20221106T010000
TZOFFSETFROM:-0700
TZOFFSETTO:-0800
TZNAME:PST
END:STANDARD
END:VTIMEZONE
END:VCALENDAR