BEGIN:VCALENDAR
VERSION:2.0
PRODID:-//wp-events-plugin.com//7.2.3.1//EN
TZID:America/Los_Angeles
X-WR-TIMEZONE:America/Los_Angeles
BEGIN:VEVENT
UID:17104@fakce.org
DTSTART;TZID=America/Los_Angeles:20240730T180000
DTEND;TZID=America/Los_Angeles:20240730T200000
DTSTAMP:20240530T185202Z
URL:https://fakce.org/events/online-water-safety-2024-07-30/
SUMMARY:Online | Water Safety
DESCRIPTION:Although residential swimming pools are the site of most drowni
 ngs\, it's crucial to recognize that children can drown in as little as on
 e inch of water. Understanding water safety and implementing preventive me
 asures are essential for safeguarding your children against this hazard. T
 his course aims to raise awareness about the significance of water safety 
 and equip parents with the necessary tools to create a secure water enviro
 nment. It will cover drowning statistics and effective prevention strategi
 es. Ultimately\, the course aims to empower parents with knowledge on wate
 r safety\, bolstering their confidence in ensuring a safe aquatic setting 
 for their children.\nRegistration will close on Tuesday\, July 30\, 2024 a
 t 7 am \n***Please Note: This class will be facilitated on the online pla
 tform called Zoom. Internet access and access to a computer/laptop/tablet/
 smartphone is required to attend.\nThe link to attend this class will be p
 rovided at registration.\nPlease follow the link below for a brief tutoria
 l on how to sign up for a free Zoom account.\nZoom User Guide\n&nbsp\;
ATTACH;FMTTYPE=image/jpeg:https://fakce.org/wp-content/uploads/2016/03/chi
 ld-832804_1280.jpg
CATEGORIES:Classes,Online Classes,Specialty Classes
LOCATION:Zoom\, 0000 Zoom \, San Diego\, United States
X-APPLE-STRUCTURED-LOCATION;VALUE=URI;X-ADDRESS=0000 Zoom \, San Diego\, Un
 ited States;X-APPLE-RADIUS=100;X-TITLE=Zoom:geo:0,0
END:VEVENT
BEGIN:VTIMEZONE
TZID:America/Los_Angeles
X-LIC-LOCATION:America/Los_Angeles
BEGIN:DAYLIGHT
DTSTART:20240310T030000
TZOFFSETFROM:-0800
TZOFFSETTO:-0700
TZNAME:PDT
END:DAYLIGHT
END:VTIMEZONE
END:VCALENDAR