BEGIN:VCALENDAR
VERSION:2.0
PRODID:-//wp-events-plugin.com//7.2.3.1//EN
TZID:America/Los_Angeles
X-WR-TIMEZONE:America/Los_Angeles
BEGIN:VEVENT
UID:15780@fakce.org
DTSTART;TZID=America/Los_Angeles:20230715T083000
DTEND;TZID=America/Los_Angeles:20230715T123000
DTSTAMP:20230608T160530Z
URL:https://fakce.org/events/online-vicarious-trauma-2023-07-15/
SUMMARY:Online | Vicarious Trauma
DESCRIPTION:Because of the nature of the work caring for abused and neglect
 ed children resource parents and others are susceptible to the impact of t
 rauma themselves. This training will differentiate among vicarious trauma\
 , secondary trauma\, compassion fatigue\, and burnout. The class will high
 light reactions and responses as well as risk and resilience factors. Copi
 ng strategies and supports including training\, supervision\, consultation
 \, therapy\, and self‐help will be explored.\nRegistration will close on
  Thursday\, July 13\, 2023 at 12 pm \n***Please Note: This class will be 
 facilitated on the online platform called Zoom. Internet access and access
  to a computer/laptop/tablet/smartphone is required to attend.\nThe link t
 o attend this class will be provided at registration.\nPlease follow the l
 ink below for a brief tutorial on how to sign up for a free Zoom account.\
 nZoom User Guide\n&nbsp\;
ATTACH;FMTTYPE=image/jpeg:https://fakce.org/wp-content/uploads/2023/04/ist
 ockphoto-478921850-170667a.jpg
CATEGORIES:Classes,Online Classes,Specialty Classes
LOCATION:Zoom\, 0000 Zoom \, San Diego\, United States
X-APPLE-STRUCTURED-LOCATION;VALUE=URI;X-ADDRESS=0000 Zoom \, San Diego\, Un
 ited States;X-APPLE-RADIUS=100;X-TITLE=Zoom:geo:0,0
END:VEVENT
BEGIN:VTIMEZONE
TZID:America/Los_Angeles
X-LIC-LOCATION:America/Los_Angeles
BEGIN:DAYLIGHT
DTSTART:20230312T030000
TZOFFSETFROM:-0800
TZOFFSETTO:-0700
TZNAME:PDT
END:DAYLIGHT
END:VTIMEZONE
END:VCALENDAR