BEGIN:VCALENDAR
VERSION:2.0
PRODID:-//wp-events-plugin.com//7.2.3.1//EN
TZID:America/Los_Angeles
X-WR-TIMEZONE:America/Los_Angeles
BEGIN:VEVENT
UID:17879@fakce.org
DTSTART;TZID=America/Los_Angeles:20250812T180000
DTEND;TZID=America/Los_Angeles:20250812T200000
DTSTAMP:20250616T203614Z
URL:https://fakce.org/events/online-understanding-adhd-helping-children-th
 rive-with-support-and-insight-2025-08-12/
SUMMARY:Online | Understanding ADHD: Helping Children Thrive with Support a
 nd Insight
DESCRIPTION:Instructors: Representatives from Scripps Mercy Hospital’s We
 ll‐Being Center\nDescription: This class oﬀers caregivers a comprehens
 ive look at Attention‐Deficit/Hyperactivity Disorder (ADHD) in children.
  Participants will learn to recognize common signs and symptoms\, understa
 nd how ADHD aﬀects behavior\, learning\, and relationships\, and explore
 \nthe latest research on causes and treatment. The session will also provi
 de practical strategies for creating supportive home environments\, improv
 ing communication\, and fostering self‐esteem. Whether you’re caring f
 or a newly diagnosed child or seeking tools to better support your child
 ’s needs\, this class will equip you with insights to help them thrive e
 motionally\, socially\, and academically.\n\n***Please Note: This class wi
 ll be facilitated on the Zoom platform.\nInternet access and access to a c
 omputer/laptop/tablet/smartphone is required to attend.\nWe kindly request
  that participants avoid using distracting virtual backgrounds. For privac
 y\, we recommend using the blur feature instead.\nYou cannot take this cla
 ss in a vehicle.\nThe Zoom link to attend this class will be provided via 
 email.\nPlease follow the link below for a brief tutorial on how to sign u
 p for a free Zoom account.\nZoom User Guide
ATTACH;FMTTYPE=image/jpeg:https://fakce.org/wp-content/uploads/2019/01/tee
 n-and-parent.jpg
CATEGORIES:Classes,Online Classes,Specialty Classes
LOCATION:Zoom\, 0000 Zoom \, San Diego\, United States
X-APPLE-STRUCTURED-LOCATION;VALUE=URI;X-ADDRESS=0000 Zoom \, San Diego\, Un
 ited States;X-APPLE-RADIUS=100;X-TITLE=Zoom:geo:0,0
END:VEVENT
BEGIN:VTIMEZONE
TZID:America/Los_Angeles
X-LIC-LOCATION:America/Los_Angeles
BEGIN:DAYLIGHT
DTSTART:20250309T030000
TZOFFSETFROM:-0800
TZOFFSETTO:-0700
TZNAME:PDT
END:DAYLIGHT
END:VTIMEZONE
END:VCALENDAR