BEGIN:VCALENDAR
VERSION:2.0
PRODID:-//wp-events-plugin.com//7.2.3.1//EN
TZID:America/Los_Angeles
X-WR-TIMEZONE:America/Los_Angeles
BEGIN:VEVENT
UID:13669@fakce.org
DTSTART;TZID=America/Los_Angeles:20220210T090000
DTEND;TZID=America/Los_Angeles:20220210T130000
DTSTAMP:20211207T201337Z
URL:https://fakce.org/events/online-trust-based-relational-intervention-tb
 ri-2022-02-10/
SUMMARY:Online | Trust Based Relational Intervention (TBRI)
DESCRIPTION: A series of 4 workshops\nTBRI is a holistic evidence‐based\
 , and trauma‐informed intervention that is designed to meet the needs o
 f vulnerable children.”\n\nTrust Based Relational Intervention (TBRI)bri
 ngs hope and healing to caretakers struggling with challenging behaviors.
  However\, sometimes it can present its own challenges when learning how t
 o implement. This class will look at TBRI concepts and how to implement ne
 w skills in order to foster connection\, attachment and trust. In each cla
 ss\, participants will gain new insights\, learn skills and interact with 
 other caretakers to help them in their journey.\n\nJoin trainers Tristen M
 cGhee an Early Childhood Educator\, adoptive mom\, writer\, and advocate f
 or foster/kinship/adopted children and Brenda Crary\, LMFT\, a TBRI Practi
 tioner + Licensed Marriage and Family Therapist with over 25 years of expe
 rience in trauma informed training\, counseling &amp\; coaching. Both hav
 e substantial experience working with vulnerable families to ﬁnd a path 
 of hope and healing.\n\nDates:\n\n 	Part 1: Introduction and Overview\n\n 
 	Thursday\, January 27\, 2022 | 9am‐1pm\n 	Learn the principles of TBRI\
 , the gold‐standard in care for kids who have experienced adversity in c
 hildhood\n\n\n\n\n 	Part 2: Empowering Principles \n\n 	Thursday\, Februar
 y 3\, 2022 | 9am‐1pm\n 	Learn the principles of TBRI\, the gold‐standa
 rd in care for kids who have experienced adversity in childhood.\n\n\n\n\n
  	Part 3: Connecting Principles \n\n 	Thursday\, February 10\, 2022 | 9am
 ‐1pm\n 	Learn the principles of TBRI\, the gold‐standard in care for k
 ids who have experienced adversity in childhood.\n\n\n\n\n 	Part 4: Correc
 ting Principles \n\n 	Thursday\, February 17\, 2022 | 9am‐1pm\n 	Learn t
 he principles of TBRI\, the gold‐standard in care for kids who have expe
 rienced adversity in childhood.\n\n\n\nRegistration will close on Wednesda
 y\, January 26\, 2022 at 12pm\n***Please Note: This class will be facilita
 ted on the online platform called Zoom. Internet access and access to a co
 mputer/laptop/tablet/smartphone is required to attend.\nThe link to attend
  this class will be provided at registration.\nPlease follow the link belo
 w for a brief tutorial on how to sign up for a free Zoom account.\nZoom Us
 er Guide
ATTACH;FMTTYPE=image/jpeg:https://fakce.org/wp-content/uploads/2019/06/Pic
 ture1.png
CATEGORIES:Classes,Online Classes,Specialty Classes
LOCATION:Zoom\, 0000 Zoom \, San Diego\, United States
X-APPLE-STRUCTURED-LOCATION;VALUE=URI;X-ADDRESS=0000 Zoom \, San Diego\, Un
 ited States;X-APPLE-RADIUS=100;X-TITLE=Zoom:geo:0,0
END:VEVENT
BEGIN:VTIMEZONE
TZID:America/Los_Angeles
X-LIC-LOCATION:America/Los_Angeles
BEGIN:STANDARD
DTSTART:20211107T010000
TZOFFSETFROM:-0700
TZOFFSETTO:-0800
TZNAME:PST
END:STANDARD
END:VTIMEZONE
END:VCALENDAR