BEGIN:VCALENDAR
VERSION:2.0
PRODID:-//wp-events-plugin.com//7.2.3.1//EN
TZID:America/Los_Angeles
X-WR-TIMEZONE:America/Los_Angeles
BEGIN:VEVENT
UID:14595@fakce.org
DTSTART;TZID=America/Los_Angeles:20220714T090000
DTEND;TZID=America/Los_Angeles:20220714T120000
DTSTAMP:20220608T175130Z
URL:https://fakce.org/events/online-trauma-informed-parenting-101-2022-07-
 14/
SUMMARY:Online | Trauma Informed Parenting 101
DESCRIPTION:Guest Instructor: Jody Johnston-Pawel\, LSW\, CFLE\n\nThe body 
 experiences chronic stress as trauma and can also cause developmental dela
 ys and behavior that is often misinterpreted as bad\, uncontrollable\, unu
 sual\, or “oﬀ the chart.” So\, it is imperative that Resource Parent
 s and caregivers understand how stress and trauma aﬀect the body\, recog
 nize the signs and symptoms\, know how to prevent trauma\, and respond to 
 its aﬀ treatments the entire family can use!\nRegistration will close on
  Wednesday\, July 14\, 2022\, at 12 pm \n***Please Note: This class will 
 be facilitated on the online platform called Zoom. Internet access and acc
 ess to a computer/laptop/tablet/smartphone is required to attend.\nThe lin
 k to attend this class will be provided at registration.\nPlease follow th
 e link below for a brief tutorial on how to sign up for a free Zoom accoun
 t.\nZoom User Guide
ATTACH;FMTTYPE=image/jpeg:https://fakce.org/wp-content/uploads/2021/05/Asi
 an-Family.jpg
CATEGORIES:Classes,Online Classes,Specialty Classes
LOCATION:Zoom\, 0000 Zoom \, San Diego\, United States
X-APPLE-STRUCTURED-LOCATION;VALUE=URI;X-ADDRESS=0000 Zoom \, San Diego\, Un
 ited States;X-APPLE-RADIUS=100;X-TITLE=Zoom:geo:0,0
END:VEVENT
BEGIN:VTIMEZONE
TZID:America/Los_Angeles
X-LIC-LOCATION:America/Los_Angeles
BEGIN:DAYLIGHT
DTSTART:20220313T030000
TZOFFSETFROM:-0800
TZOFFSETTO:-0700
TZNAME:PDT
END:DAYLIGHT
END:VTIMEZONE
END:VCALENDAR