BEGIN:VCALENDAR
VERSION:2.0
PRODID:-//wp-events-plugin.com//7.2.3.1//EN
TZID:America/Los_Angeles
X-WR-TIMEZONE:America/Los_Angeles
BEGIN:VEVENT
UID:14204@fakce.org
DTSTART;TZID=America/Los_Angeles:20220408T150000
DTEND;TZID=America/Los_Angeles:20220408T180000
DTSTAMP:20220210T204246Z
URL:https://fakce.org/events/online-trauma%e2%80%90informed-parenting-101-
 what-every-parent-of-every-child-needs-to-know-2022-04-08/
SUMMARY:Online |  Trauma‐Informed Parenting 101: What EVERY Parent of EVE
 RY Child Needs to Know
DESCRIPTION:The body experiences chronic stress as a trauma and can also c
 ause developmental delays and behavior that is often misinterpreted as bad
 \, uncontrollable\, unusual\, or “oﬀ the chart.” So\, it is imperati
 ve that Resource Parents and caregivers understand how stress and trauma a
 ﬀect the body\, recognize the signs and symptoms\, know how to prevent t
 rauma\, respond to its effects\, and know about simple at-home treatments 
 the entire family can use!\nRegistration will close on Friday\, April 8\
 , 2022\, at 7 am\n&nbsp\;\n***Please Note: This class will be facilitated 
 on the online platform called Zoom. Internet access and access to a comput
 er/laptop/tablet/smartphone is required to attend.\nThe link to attend thi
 s class will be provided at registration.\nPlease follow the link below fo
 r a brief tutorial on how to sign up for a free Zoom account.\nZoom User G
 uide
ATTACH;FMTTYPE=image/jpeg:https://fakce.org/wp-content/uploads/2016/08/o-C
 LASSROOM-facebook.jpg
CATEGORIES:Classes,Online Classes,Specialty Classes
LOCATION:Zoom\, 0000 Zoom \, San Diego\, United States
X-APPLE-STRUCTURED-LOCATION;VALUE=URI;X-ADDRESS=0000 Zoom \, San Diego\, Un
 ited States;X-APPLE-RADIUS=100;X-TITLE=Zoom:geo:0,0
END:VEVENT
BEGIN:VTIMEZONE
TZID:America/Los_Angeles
X-LIC-LOCATION:America/Los_Angeles
BEGIN:DAYLIGHT
DTSTART:20220313T030000
TZOFFSETFROM:-0800
TZOFFSETTO:-0700
TZNAME:PDT
END:DAYLIGHT
END:VTIMEZONE
END:VCALENDAR