BEGIN:VCALENDAR
VERSION:2.0
PRODID:-//wp-events-plugin.com//7.2.3.1//EN
TZID:America/Los_Angeles
X-WR-TIMEZONE:America/Los_Angeles
BEGIN:VEVENT
UID:14295@fakce.org
DTSTART;TZID=America/Los_Angeles:20220613T110000
DTEND;TZID=America/Los_Angeles:20220613T140000
DTSTAMP:20220411T181637Z
URL:https://fakce.org/events/online-transitioning-children-between-placeme
 nts-2022-06-13/
SUMMARY:Online | Transitioning Children Between Placements
DESCRIPTION:Guest Instructor: Atasha Kelley‐Harris\, M.Ed.\, LCPAA\, CFLE
 \n\nNational Director of Family Advocacy\, Atasha M. Kelley‐Harris is a 
 child and family services professional who holds a master’s degree in Co
 unseling and currently resides in the suburban Greater Houston Metropolita
 n area. She has worked in a variety of capacities for several agencies thr
 oughout the country\, as well as having served a number of years as a cons
 ultant reviewer for the Administration for Children\, Youth and Families\,
  and Children’s Bureau. Kelley‐Harris is an Associate Member of the Na
 tional Council on Family Relations\, as well as a Certiﬁed Family Life E
 ducator and a Licensed child-placing Agency Administrator. Throughout her 
 26‐year career\, she has contributed to the successful healing\, permane
 nce\, and stability of numerous children\, youth\, and families\, and ment
 ored many child welfare and mental health professionals.\n\nPermanency is 
 a goal foster children\, adoptive parents\, and child welfare professional
 s all share\, striving to achieve\, and celebrate when it ﬁnally arrives
 . As positive as the move might be\, it is another disruption\, change or 
 transition for the child. Because many children have already endured so ma
 ny disruptions and transitions\, another move can trigger past traumas. So
  it's important for children to carefully transition between homes/placeme
 nts. This course describes both what TO DO and what NOT TO DO to help fost
 er children\ntransition smoothly from one home (or placement) to another.\
 nRegistration will close on Friday\, June 10\, 2022\, at 12pm \n***Please
  Note: This class will be facilitated on the online platform called Zoom. 
 Internet access and access to a computer/laptop/tablet/smartphone is requi
 red to attend.\nThe link to attend this class will be provided at registra
 tion.\nPlease follow the link below for a brief tutorial on how to sign up
  for a free Zoom account.\nZoom User Guide
ATTACH;FMTTYPE=image/jpeg:https://fakce.org/wp-content/uploads/2016/08/n-C
 OOKING-WITH-KIDS-628x314.jpg
CATEGORIES:Classes,Online Classes,Specialty Classes
LOCATION:Zoom\, 0000 Zoom \, San Diego\, United States
X-APPLE-STRUCTURED-LOCATION;VALUE=URI;X-ADDRESS=0000 Zoom \, San Diego\, Un
 ited States;X-APPLE-RADIUS=100;X-TITLE=Zoom:geo:0,0
END:VEVENT
BEGIN:VTIMEZONE
TZID:America/Los_Angeles
X-LIC-LOCATION:America/Los_Angeles
BEGIN:DAYLIGHT
DTSTART:20220313T030000
TZOFFSETFROM:-0800
TZOFFSETTO:-0700
TZNAME:PDT
END:DAYLIGHT
END:VTIMEZONE
END:VCALENDAR