BEGIN:VCALENDAR
VERSION:2.0
PRODID:-//wp-events-plugin.com//7.2.3.1//EN
TZID:America/Los_Angeles
X-WR-TIMEZONE:America/Los_Angeles
BEGIN:VEVENT
UID:15448@fakce.org
DTSTART;TZID=America/Los_Angeles:20230109T150000
DTEND;TZID=America/Los_Angeles:20230123T180000
DTSTAMP:20221207T223109Z
URL:https://fakce.org/events/online-toolshop-training-series-keep-your-coo
 l-toolset-2023-01-09/
SUMMARY:Online | Toolshop Training Series: Keep Your Cool Toolset
DESCRIPTION:&nbsp\;\n**A series of 2 workshops—must attend both to receiv
 e full credit**\nDescription:\n\nKeep Your Cool - Even When Kids are Erupt
 ing. Create individualized stress and anger management plans for you and y
 our children\, get dozens of ideas for expressing anger appropriately\, an
 d to defuse and redirect an angry child.\n\nPart 2 reveals how trauma and 
 trigger buttons get wired in and how to de‐program them out!\n\nDates:\n
 \n 	Monday\, January 9\, 2023\n 	Monday\, January 23\, 2023\n\nRegistratio
 n will close on Monday\, January 9\, 2023\, at 7am\nThe Foster‐Adoptive 
 Parents Toolshop® training series is a comprehensive 30+ hour evidence
 ‐based\, trauma informed parenting curriculum for foster and kinship car
 egivers and adoptive parents. The entire series will be oﬀered over the 
 next 8 months‐ September 2022‐ June 2023 and will be taught by the cur
 riculum’s author Jody Johnston Pawel\, LSW\, CFLE\, CTSS.\nWhile each in
 dividual workshop is valuable as a stand‐alone workshop\, when combined 
 they create a parenting system called The Universal Blueprint® for Parent
 ing Success. You can use this universal system to prevent common parenting
  challenges and plan personalized responses and solutions to those that ar
 ise\, based on the child\, circumstance\, and family involved. The series 
 oﬀers an overview of the system and its tools\, plus the in‐depth work
 shops in order\, so they build on each other.\nDon’t worry if you can’
 t take them all\, you can take one\, some or as many as you wish! The Seri
 es will be oﬀered on the 2nd and 4th Mondays from September 2022 to June
  2023 from 3‐6pm. Please note there are some 2‐ part trainings. You mu
 st attend both sessions to get credit.\nTo see a flyer with a complete lis
 t of Jody Johnston-Pawel classes\, click here \nGuest Instructor: Jody Jo
 hnston-Pawel\, LSW\, CFLE\nJody Johnston Pawel is a Licensed Social Worker
  in the State of Ohio and a Certified Family Life Educator. She is the aut
 hor of the award‐winning The Parent’s Toolshop® book and Founder/CEO 
 of the Relationship Toolshop® International Training Institute. LLC.\n\n*
 **Please Note: This class will be facilitated on the online platform calle
 d Zoom. Internet access and access to a computer/laptop/tablet/smartphone 
 is required to attend.\nThe link to attend this class will be provided at 
 registration.\nPlease follow the link below for a brief tutorial on how to
  sign up for a free Zoom account.\nZoom User Guide
ATTACH;FMTTYPE=image/jpeg:https://fakce.org/wp-content/uploads/2016/05/mot
 her-talking-to-daughter.jpg
CATEGORIES:Classes,Online Classes,Specialty Classes
LOCATION:Zoom\, 0000 Zoom \, San Diego\, United States
X-APPLE-STRUCTURED-LOCATION;VALUE=URI;X-ADDRESS=0000 Zoom \, San Diego\, Un
 ited States;X-APPLE-RADIUS=100;X-TITLE=Zoom:geo:0,0
END:VEVENT
BEGIN:VTIMEZONE
TZID:America/Los_Angeles
X-LIC-LOCATION:America/Los_Angeles
BEGIN:STANDARD
DTSTART:20221106T010000
TZOFFSETFROM:-0700
TZOFFSETTO:-0800
TZNAME:PST
END:STANDARD
END:VTIMEZONE
END:VCALENDAR