BEGIN:VCALENDAR
VERSION:2.0
PRODID:-//wp-events-plugin.com//7.2.3.1//EN
TZID:America/Los_Angeles
X-WR-TIMEZONE:America/Los_Angeles
BEGIN:VEVENT
UID:14817@fakce.org
DTSTART;TZID=America/Los_Angeles:20221114T150000
DTEND;TZID=America/Los_Angeles:20221114T180000
DTSTAMP:20221007T054018Z
URL:https://fakce.org/events/online-toolshop-training-series-cooperation-t
 oolset-2022-11-14/
SUMMARY:Online | Toolshop Training Series: Cooperation Toolset
DESCRIPTION:The Foster‐Adoptive Parents Toolshop® training series is a c
 omprehensive 30+ hour evidence‐based\, trauma informed parenting curric
 ulum for foster and kinship caregivers and adoptive parents. The entire se
 ries will be oﬀered over the next 8 months‐ September 2022‐ June 202
 3 and will be taught by the curriculum’s author Jody Johnston Pawel\, LS
 W\, CFLE\, CTSS.\nWhile each individual workshop is valuable as a stand‐
 alone workshop\, when combined they create a parenting system called The U
 niversal Blueprint® for Parenting Success. You can use this universal sys
 tem to prevent common parenting challenges and plan personalized responses
  and solutions to those that arise\, based on the child\, circumstance\, a
 nd family involved. The series oﬀers an overview of the system and its t
 ools\, plus the in‐depth workshops in order\, so they build on each othe
 r.\nDon’t worry if you can’t take them all\, you can take one\, some o
 r as many as you wish! The Series will be oﬀered on the 2nd and 4th Mond
 ays from September 2022 to June 2023 from 3‐6pm. Please note there are s
 ome 2‐ part trainings. You must attend both sessions to get credit.\nTo 
 see a flyer with a complete list of Jody Johnston-Pawel classes\, click he
 re \n&nbsp\;\n\nDescription: Part of The Core “UNIVERSAL BLUEPRINT® F
 or Parenting Success System” series. Get Cooperation The First Time You
  Ask! Get children to cooperate\, the first time you ask\, without power 
 struggles or tantrums. Foster internal self‐motivation\, without bribes
 \, stickers or rewards.\nRegistration will close on Monday\, November 14\,
  2022\, at 7am\nGuest Instructor: Jody Johnston-Pawel\, LSW\, CFLE\nJody J
 ohnston Pawel is a Licensed Social Worker in the State of Ohio and a Certi
 fied Family Life Educator. She is the author of the award‐winning The Pa
 rent’s Toolshop® book and Founder/CEO of the Relationship Toolshop® In
 ternational Training Institute. LLC.\n\n***Please Note: This class will be
  facilitated on the online platform called Zoom. Internet access and acces
 s to a computer/laptop/tablet/smartphone is required to attend.\nThe link 
 to attend this class will be provided at registration.\nPlease follow the 
 link below for a brief tutorial on how to sign up for a free Zoom account.
 \nZoom User Guide
ATTACH;FMTTYPE=image/jpeg:https://fakce.org/wp-content/uploads/2021/05/Fly
 ing-Boy.jpg
CATEGORIES:Classes,Online Classes,Specialty Classes
LOCATION:Zoom\, 0000 Zoom \, San Diego\, United States
X-APPLE-STRUCTURED-LOCATION;VALUE=URI;X-ADDRESS=0000 Zoom \, San Diego\, Un
 ited States;X-APPLE-RADIUS=100;X-TITLE=Zoom:geo:0,0
END:VEVENT
BEGIN:VTIMEZONE
TZID:America/Los_Angeles
X-LIC-LOCATION:America/Los_Angeles
BEGIN:STANDARD
DTSTART:20221106T010000
TZOFFSETFROM:-0700
TZOFFSETTO:-0800
TZNAME:PST
END:STANDARD
END:VTIMEZONE
END:VCALENDAR