BEGIN:VCALENDAR
VERSION:2.0
PRODID:-//wp-events-plugin.com//7.2.3.1//EN
TZID:America/Los_Angeles
X-WR-TIMEZONE:America/Los_Angeles
BEGIN:VEVENT
UID:14201@fakce.org
DTSTART;TZID=America/Los_Angeles:20220406T180000
DTEND;TZID=America/Los_Angeles:20220406T210000
DTSTAMP:20220210T004640Z
URL:https://fakce.org/events/online-tips-refresher-2022-04-06/
SUMMARY:Online |  TIPS Refresher
DESCRIPTION:It may have been a while since you last took the 12‐hour Trau
 ma Informed Pre‐Service (TIPS) training\, so it may be time for a littl
 e refresher. This workshop is for Resource Parents whether they are taking
  their ﬁrst placement or may just want to refresh their knowledge! Train
 ing will cover topics such as the impact of trauma on children in foster c
 are\, placement paperwork\, prudent parenting\, safe sleep\, administratio
 n of medications\, resources\, plus so much more! Come join us to refresh 
 your mind and skills.\nRegistration will close on Wednesday\, April 6\, 20
 22\, at 7 am\n***Please Note: This class will be facilitated on the online
  platform called Zoom. Internet access and access to a computer/laptop/tab
 let/smartphone is required to attend.\nThe link to attend this class will 
 be provided at registration.\nPlease follow the link below for a brief tut
 orial on how to sign up for a free Zoom account.\nZoom User Guide
ATTACH;FMTTYPE=image/jpeg:https://fakce.org/wp-content/uploads/2016/08/o-C
 LASSROOM-facebook.jpg
CATEGORIES:Classes,Online Classes,Specialty Classes
LOCATION:Zoom\, 0000 Zoom \, San Diego\, United States
X-APPLE-STRUCTURED-LOCATION;VALUE=URI;X-ADDRESS=0000 Zoom \, San Diego\, Un
 ited States;X-APPLE-RADIUS=100;X-TITLE=Zoom:geo:0,0
END:VEVENT
BEGIN:VTIMEZONE
TZID:America/Los_Angeles
X-LIC-LOCATION:America/Los_Angeles
BEGIN:DAYLIGHT
DTSTART:20220313T030000
TZOFFSETFROM:-0800
TZOFFSETTO:-0700
TZNAME:PDT
END:DAYLIGHT
END:VTIMEZONE
END:VCALENDAR