BEGIN:VCALENDAR
VERSION:2.0
PRODID:-//wp-events-plugin.com//7.2.3.1//EN
TZID:America/Los_Angeles
X-WR-TIMEZONE:America/Los_Angeles
BEGIN:VEVENT
UID:18526@fakce.org
DTSTART;TZID=America/Los_Angeles:20260404T090000
DTEND;TZID=America/Los_Angeles:20260411T153000
DTSTAMP:20260101T220511Z
URL:https://fakce.org/events/online-tips-913z-2026-04-04/
SUMMARY:Online | TIPS #913Z
DESCRIPTION:TIPS is the 12-hour pre-service training program that is requir
 ed prior to being approved as a Resource Parent by the County of San Diego
 .  The TIPS training consists of 2\, 6-hour training sessions.\n\nYou are
  registering for Class 913z. The dates for each of the sessions are as fol
 lows:\n\nSession # 1 | Saturday\, April 04\, 2026\, 9am-12pm\nSession # 2 
 | Saturday\, April 04\, 2026\, 12:30pm-3:30pm\nSession # 3 | Saturday\, Ap
 ril 11\, 2026\, 9am-12pm\nSession # 4 | Saturday\, April 11\, 2026\, 12:30
 pm-3:30pm\n\nYou will receive an email confirmation of your registration.
  The email will provide you with the first date of the class\, as well as 
 the time and location. The dates for sessions 2\, 3\, and 4 will not be 
 provided. Please make a note of those dates or reference the main TIPS pag
 e- Click here.\n***Please Note: This TIPS class will be facilitated on t
 he Zoom platform.\nInternet access and access to a computer/laptop/tablet/
 smartphone is required to attend.\nVirtual Backgrounds are not permitted i
 n our Zoom meetings\, however\, blurred backgrounds are acceptable.\nYou c
 annot take this class in a vehicle.\nThe Zoom link to attend this class wi
 ll be provided via email.\nPlease follow the link below for a brief tutori
 al on how to sign up for a free Zoom account.\nZoom User Guide
ATTACH;FMTTYPE=image/jpeg:https://fakce.org/wp-content/uploads/2023/04/ist
 ockphoto-1313553003-612x612-1.jpg
CATEGORIES:Classes,Online Classes,TIPS Classes,TIPS Sessions
LOCATION:Zoom\, 0000 Zoom \, San Diego\, United States
X-APPLE-STRUCTURED-LOCATION;VALUE=URI;X-ADDRESS=0000 Zoom \, San Diego\, Un
 ited States;X-APPLE-RADIUS=100;X-TITLE=Zoom:geo:0,0
END:VEVENT
BEGIN:VTIMEZONE
TZID:America/Los_Angeles
X-LIC-LOCATION:America/Los_Angeles
BEGIN:DAYLIGHT
DTSTART:20260308T030000
TZOFFSETFROM:-0800
TZOFFSETTO:-0700
TZNAME:PDT
END:DAYLIGHT
END:VTIMEZONE
END:VCALENDAR