BEGIN:VCALENDAR
VERSION:2.0
PRODID:-//wp-events-plugin.com//7.2.3.1//EN
TZID:America/Los_Angeles
X-WR-TIMEZONE:America/Los_Angeles
BEGIN:VEVENT
UID:17836@fakce.org
DTSTART;TZID=America/Los_Angeles:20251006T180000
DTEND;TZID=America/Los_Angeles:20251015T210000
DTSTAMP:20250605T113114Z
URL:https://fakce.org/events/online-tips-882z-2025-10-06/
SUMMARY:Online | TIPS #882Z
DESCRIPTION:TIPS is the 12-hour pre-service training program that is requir
 ed prior to being approved as a Resource Parent by the County of San Diego
 .  The TIPS training consists of 4\, 3-hour training sessions.\n\nYou are
  registering for Class 882z. The dates for each of the 4 sessions are as f
 ollows:\n\nSession # 1 | Monday\, October 06\, 2025\nSession # 2 | Wednesd
 ay\, October 08\, 2025\nSession # 3 | Monday\, October 13\, 2025\nSession 
 # 4 | Wednesday\, October 15\, 2025\n\nYou will receive an email confirma
 tion of your registration. The email will provide you with the first date 
 of the class\, as well as the time and location. The dates for sessions 2\
 , 3\, and 4 will not be provided. Please make a note of those dates or r
 eference the main TIPS page- Click here.\n***Please Note: This TIPS clas
 s will be facilitated on the Zoom platform.\nInternet access and access to
  a computer/laptop/tablet/smartphone is required to attend.\nVirtual Backg
 rounds are not permitted in our Zoom meetings\, however\, blurred backgrou
 nds are acceptable.\nYou cannot take this class in a vehicle.\nThe Zoom li
 nk to attend this class will be provided via email.\nPlease follow the lin
 k below for a brief tutorial on how to sign up for a free Zoom account.\nZ
 oom User Guide\n&nbsp\;
ATTACH;FMTTYPE=image/jpeg:https://fakce.org/wp-content/uploads/2016/08/kid
 s-·-kids-·-kids.jpg
CATEGORIES:Classes,Online Classes,TIPS Classes,TIPS Sessions
LOCATION:Zoom\, 0000 Zoom \, San Diego\, United States
X-APPLE-STRUCTURED-LOCATION;VALUE=URI;X-ADDRESS=0000 Zoom \, San Diego\, Un
 ited States;X-APPLE-RADIUS=100;X-TITLE=Zoom:geo:0,0
END:VEVENT
BEGIN:VTIMEZONE
TZID:America/Los_Angeles
X-LIC-LOCATION:America/Los_Angeles
BEGIN:DAYLIGHT
DTSTART:20250309T030000
TZOFFSETFROM:-0800
TZOFFSETTO:-0700
TZNAME:PDT
END:DAYLIGHT
END:VTIMEZONE
END:VCALENDAR