BEGIN:VCALENDAR
VERSION:2.0
PRODID:-//wp-events-plugin.com//7.2.3.1//EN
TZID:America/Los_Angeles
X-WR-TIMEZONE:America/Los_Angeles
BEGIN:VEVENT
UID:17815@fakce.org
DTSTART;TZID=America/Los_Angeles:20250922T180000
DTEND;TZID=America/Los_Angeles:20251001T210000
DTSTAMP:20250604T121217Z
URL:https://fakce.org/events/online-tips-878z-2025-09-22/
SUMMARY:Online | TIPS #878Z
DESCRIPTION:TIPS is the 12-hour pre-service training program that is requir
 ed prior to being approved as a Resource Parent by the County of San Diego
 .  The TIPS training consists of 4\, 3-hour training sessions.\n\nYou are
  registering for Class 878z. The dates for each of the 4 sessions are as f
 ollows:\n\nSession # 1 | Monday\, September 22\, 2025\nSession # 2 | Wedne
 sday\, September 24\, 2025\nSession # 3 | Monday\, September 29\, 2025\nSe
 ssion # 4 | Wednesday\, October 01\, 2025\n\nYou will receive an email co
 nfirmation of your registration. The email will provide you with the first
  date of the class\, as well as the time and location. The dates for sessi
 ons 2\, 3\, and 4 will not be provided. Please make a note of those date
 s or reference the main TIPS page- Click here.\n***Please Note: This TIP
 S class will be facilitated on the Zoom platform.\nInternet access and acc
 ess to a computer/laptop/tablet/smartphone is required to attend.\nVirtual
  Backgrounds are not permitted in our Zoom meetings\, however\, blurred ba
 ckgrounds are acceptable.\nYou cannot take this class in a vehicle.\nThe Z
 oom link to attend this class will be provided via email.\nPlease follow t
 he link below for a brief tutorial on how to sign up for a free Zoom accou
 nt.\nZoom User Guide\n&nbsp\;
ATTACH;FMTTYPE=image/jpeg:https://fakce.org/wp-content/uploads/2016/08/kid
 s-·-kids-·-kids.jpg
CATEGORIES:Classes,Online Classes,TIPS Classes,TIPS Sessions
LOCATION:Zoom\, 0000 Zoom \, San Diego\, United States
X-APPLE-STRUCTURED-LOCATION;VALUE=URI;X-ADDRESS=0000 Zoom \, San Diego\, Un
 ited States;X-APPLE-RADIUS=100;X-TITLE=Zoom:geo:0,0
END:VEVENT
BEGIN:VTIMEZONE
TZID:America/Los_Angeles
X-LIC-LOCATION:America/Los_Angeles
BEGIN:DAYLIGHT
DTSTART:20250309T030000
TZOFFSETFROM:-0800
TZOFFSETTO:-0700
TZNAME:PDT
END:DAYLIGHT
END:VTIMEZONE
END:VCALENDAR