BEGIN:VCALENDAR
VERSION:2.0
PRODID:-//wp-events-plugin.com//7.2.3.1//EN
TZID:America/Los_Angeles
X-WR-TIMEZONE:America/Los_Angeles
BEGIN:VEVENT
UID:17724@fakce.org
DTSTART;TZID=America/Los_Angeles:20250528T180000
DTEND;TZID=America/Los_Angeles:20250609T210000
DTSTAMP:20250223T002040Z
URL:https://fakce.org/events/online-tips-858z-2025-05-28/
SUMMARY:Online| TIPS #858Z
DESCRIPTION:TIPS is the 12-hour pre-service training program that is requir
 ed prior to being approved as a Resource Parent by the County of San Diego
 .  The TIPS training consists of 4\, 3-hour training sessions.\n\nYou are
  registering for Class 858z. The dates for each of the 4 sessions are as f
 ollows:\n\nSession # 1 | Wednesday\, May 28\, 2025\nSession # 2 | Wednesda
 y\, June 02\, 2025\nSession # 3 | Monday\, June 04\, 2025\nSession # 4 | W
 ednesday\, June 09\, 2025\n\nYou will receive an email confirmation of yo
 ur registration. The email will provide you with the first date of the cla
 ss\, as well as the time and location. The dates for sessions 2\, 3\, and 
 4 will not be provided. Please make a note of those dates or reference t
 he main TIPS page- Click here.\n***Please Note: This TIPS class will be 
 facilitated on the Zoom platform.\nInternet access and access to a compute
 r/laptop/tablet/smartphone is required to attend.\nVirtual Backgrounds are
  not permitted in our Zoom meetings\, however\, blurred backgrounds are ac
 ceptable.\nYou cannot take this class in a vehicle.\nThe Zoom link to atte
 nd this class will be provided via email.\nPlease follow the link below fo
 r a brief tutorial on how to sign up for a free Zoom account.\nZoom User G
 uide
ATTACH;FMTTYPE=image/jpeg:https://fakce.org/wp-content/uploads/2016/08/kid
 s-·-kids-·-kids.jpg
CATEGORIES:Classes,Online Classes,TIPS Classes,TIPS Sessions
LOCATION:Zoom\, 0000 Zoom \, San Diego\, United States
X-APPLE-STRUCTURED-LOCATION;VALUE=URI;X-ADDRESS=0000 Zoom \, San Diego\, Un
 ited States;X-APPLE-RADIUS=100;X-TITLE=Zoom:geo:0,0
END:VEVENT
BEGIN:VTIMEZONE
TZID:America/Los_Angeles
X-LIC-LOCATION:America/Los_Angeles
BEGIN:DAYLIGHT
DTSTART:20250309T030000
TZOFFSETFROM:-0800
TZOFFSETTO:-0700
TZNAME:PDT
END:DAYLIGHT
END:VTIMEZONE
END:VCALENDAR