BEGIN:VCALENDAR
VERSION:2.0
PRODID:-//wp-events-plugin.com//7.2.3.1//EN
TZID:America/Los_Angeles
X-WR-TIMEZONE:America/Los_Angeles
BEGIN:VEVENT
UID:17625@fakce.org
DTSTART;TZID=America/Los_Angeles:20250318T180000
DTEND;TZID=America/Los_Angeles:20250327T210000
DTSTAMP:20250311T211402Z
URL:https://fakce.org/events/online-tips-833z-2025-03-18/
SUMMARY:Online | TIPS #833Z
DESCRIPTION:﻿TIPS is the 12-hour pre-service training program that is req
 uired prior to being approved as a Resource Parent by the County of San Di
 ego.  The TIPS training consists of 4\, 3-hour training sessions.\n\nYou 
 are registering for Class 833z. The dates for each of the 4 sessions are a
 s follows:\n\nSession # 1 | Tuesday\, March 18\, 2025\nSession # 2 | Thurs
 day\, March 20\, 2025\nSession # 3 | Tuesday\, March 25\, 2025\nSession # 
 4 | Thursday\, March 27\, 2025\n\nYou will receive an email confirmation 
 of your registration. The email will provide you with the first date of th
 e class\, as well as the time and location. The dates for sessions 2\, 3\,
  and 4 will not be provided. Please make a note of those dates or refere
 nce the main TIPS page- Click here.\n***Please Note: This TIPS class wil
 l be facilitated on the Zoom platform.\nInternet access and access to a co
 mputer/laptop/tablet/smartphone is required to attend.\nVirtual Background
 s are not permitted in our Zoom meetings\, however\, blurred backgrounds a
 re acceptable.\nYou cannot take this class in a vehicle.\nThe Zoom link to
  attend this class will be provided via email.\nPlease follow the link bel
 ow for a brief tutorial on how to sign up for a free Zoom account.\nZoom U
 ser Guide
ATTACH;FMTTYPE=image/jpeg:https://fakce.org/wp-content/uploads/2016/08/kid
 s-·-kids-·-kids.jpg
CATEGORIES:Classes,Online Classes,TIPS Classes,TIPS Sessions
LOCATION:Zoom\, 0000 Zoom \, San Diego\, United States
X-APPLE-STRUCTURED-LOCATION;VALUE=URI;X-ADDRESS=0000 Zoom \, San Diego\, Un
 ited States;X-APPLE-RADIUS=100;X-TITLE=Zoom:geo:0,0
END:VEVENT
BEGIN:VTIMEZONE
TZID:America/Los_Angeles
X-LIC-LOCATION:America/Los_Angeles
BEGIN:DAYLIGHT
DTSTART:20250309T030000
TZOFFSETFROM:-0800
TZOFFSETTO:-0700
TZNAME:PDT
END:DAYLIGHT
END:VTIMEZONE
END:VCALENDAR