BEGIN:VCALENDAR
VERSION:2.0
PRODID:-//wp-events-plugin.com//7.2.3.1//EN
TZID:America/Los_Angeles
X-WR-TIMEZONE:America/Los_Angeles
BEGIN:VEVENT
UID:17343@fakce.org
DTSTART;TZID=America/Los_Angeles:20250218T180000
DTEND;TZID=America/Los_Angeles:20250227T210000
DTSTAMP:20250208T123722Z
URL:https://fakce.org/events/online-tips-823z-2025-02-18/
SUMMARY:Online | TIPS #823Z
DESCRIPTION:TIPS is the 12-hour pre-service training program that is requir
 ed prior to being approved as a Resource Parent by the County of San Diego
 .  The TIPS training consists of 4\, 3-hour training sessions.\n\nYou are
  registering for Class 823z. The dates for each of the 4 sessions are as f
 ollows:\n\nSession # 1 | Tuesday\, February 18\, 2025\nSession # 2 | Thurs
 day\, February 20\, 2025\nSession # 3 | Tuesday\, February 25\, 2025\nSess
 ion # 4 | Thursday\, February 27\, 2025\n\nYou will receive an email conf
 irmation of your registration. The email will provide you with the first d
 ate of the class\, as well as the time and location. The dates for session
 s 2\, 3\, and 4 will not be provided. Please make a note of those dates 
 or reference the main TIPS page- Click here.\nRegistration will close on 
 Tuesday\, February 18\, 2025\, at 7 am\n***Please Note: This TIPS class w
 ill be facilitated on the Zoom platform.\nInternet access and access to a 
 computer/laptop/tablet/smartphone is required to attend.\nVirtual Backgrou
 nds are not permitted in our Zoom meetings\, however\, blurred backgrounds
  are acceptable.\nYou cannot take this class in a vehicle.\nThe Zoom link 
 to attend this class will be provided via email.\nPlease follow the link b
 elow for a brief tutorial on how to sign up for a free Zoom account.\nZoom
  User Guide
ATTACH;FMTTYPE=image/jpeg:https://fakce.org/wp-content/uploads/2016/08/kid
 s-·-kids-·-kids.jpg
CATEGORIES:Classes,Online Classes,TIPS Classes,TIPS Sessions
LOCATION:Zoom\, 0000 Zoom \, San Diego\, United States
X-APPLE-STRUCTURED-LOCATION;VALUE=URI;X-ADDRESS=0000 Zoom \, San Diego\, Un
 ited States;X-APPLE-RADIUS=100;X-TITLE=Zoom:geo:0,0
END:VEVENT
BEGIN:VTIMEZONE
TZID:America/Los_Angeles
X-LIC-LOCATION:America/Los_Angeles
BEGIN:STANDARD
DTSTART:20241103T010000
TZOFFSETFROM:-0700
TZOFFSETTO:-0800
TZNAME:PST
END:STANDARD
END:VTIMEZONE
END:VCALENDAR