BEGIN:VCALENDAR
VERSION:2.0
PRODID:-//wp-events-plugin.com//7.2.3.1//EN
TZID:America/Los_Angeles
X-WR-TIMEZONE:America/Los_Angeles
BEGIN:VEVENT
UID:17337@fakce.org
DTSTART;TZID=America/Los_Angeles:20250131T180000
DTEND;TZID=America/Los_Angeles:20250210T210000
DTSTAMP:20250202T123819Z
URL:https://fakce.org/events/online-tips-817z-2025-01-31/
SUMMARY:Online| TIPS #817Z
DESCRIPTION:**This series has been canceled**\nTIPS is the 12-hour pre-serv
 ice training program that is required prior to being approved as a Resourc
 e Parent by the County of San Diego.  The TIPS training consists of 4\, 3
 -hour training sessions.\n\nYou are registering for Class 817z. The dates 
 for each of the 4 sessions are as follows:\n\nSession # 1 | Friday\, Janua
 ry 31\, 2025\nSession # 2 | Monday\, February 3\, 2025\nSession # 3 | Frid
 ay\, February 7\, 2025\nSession # 4 | Monday\, February 10\, 2025\n\nYou w
 ill receive an email confirmation of your registration. The email will pr
 ovide you with the first date of the class\, as well as the time and locat
 ion. The dates for sessions 2\, 3\, and 4 will not be provided. Please m
 ake a note of those dates or reference the main TIPS page- Click here.\nR
 egistration will close on Friday\, January  31\, 2025\, at 7 am\n***Pleas
 e Note: This TIPS class will be facilitated on the Zoom platform.\nIntern
 et access and access to a computer/laptop/tablet/smartphone is required to
  attend.\nVirtual Backgrounds are not permitted in our Zoom meetings\, how
 ever\, blurred backgrounds are acceptable.\nYou cannot take this class in 
 a vehicle.\nThe Zoom link to attend this class will be provided via email.
 \nPlease follow the link below for a brief tutorial on how to sign up for 
 a free Zoom account.\nZoom User Guide
ATTACH;FMTTYPE=image/jpeg:https://fakce.org/wp-content/uploads/2016/08/kid
 s-·-kids-·-kids.jpg
CATEGORIES:Classes,Online Classes,TIPS Classes,TIPS Sessions
LOCATION:Zoom\, 0000 Zoom \, San Diego\, United States
X-APPLE-STRUCTURED-LOCATION;VALUE=URI;X-ADDRESS=0000 Zoom \, San Diego\, Un
 ited States;X-APPLE-RADIUS=100;X-TITLE=Zoom:geo:0,0
END:VEVENT
BEGIN:VTIMEZONE
TZID:America/Los_Angeles
X-LIC-LOCATION:America/Los_Angeles
BEGIN:STANDARD
DTSTART:20241103T010000
TZOFFSETFROM:-0700
TZOFFSETTO:-0800
TZNAME:PST
END:STANDARD
END:VTIMEZONE
END:VCALENDAR