BEGIN:VCALENDAR
VERSION:2.0
PRODID:-//wp-events-plugin.com//7.2.3.1//EN
TZID:America/Los_Angeles
X-WR-TIMEZONE:America/Los_Angeles
BEGIN:VEVENT
UID:17331@fakce.org
DTSTART;TZID=America/Los_Angeles:20250121T180000
DTEND;TZID=America/Los_Angeles:20250130T210000
DTSTAMP:20250106T182214Z
URL:https://fakce.org/events/online-tips-812z-2025-01-21/
SUMMARY:Online | TIPS #812Z
DESCRIPTION:TIPS is the 12-hour pre-service training program that is requir
 ed prior to being approved as a Resource Parent by the County of San Diego
 .  The TIPS training consists of 4\, 3-hour training sessions.\n\nYou are
  registering for Class 812Z. The dates for each of the 4 sessions are as f
 ollows:\n\nSession # 1 | Tuesday\, January 21\, 2025\nSession # 2 | Thursd
 ay\, January 23\, 2025\nSession # 3 | Tuesday\, January 28\, 2025\nSession
  # 4 | Thursday\, January 30\, 2025\n\nYou will receive an email confirma
 tion of your registration. The email will provide you with the first date 
 of the class\, as well as the time and location. The dates for sessions 2\
 , 3\, and 4 will not be provided. Please make a note of those dates or r
 eference the main TIPS page- Click here.\nRegistration will close on Tues
 day\, January 21\, 2025\, at 7 am\n***Please Note: This TIPS class will b
 e facilitated on the Zoom platform.\nInternet access and access to a compu
 ter/laptop/tablet/smartphone is required to attend.\nWe kindly request tha
 t participants avoid using distracting virtual backgrounds. For privacy\, 
 we recommend using the blur feature instead.\nYou cannot take this class i
 n a vehicle.\nThe Zoom link to attend this class will be provided via emai
 l.\nPlease follow the link below for a brief tutorial on how to sign up fo
 r a free Zoom account.\nZoom User Guide
ATTACH;FMTTYPE=image/jpeg:https://fakce.org/wp-content/uploads/2016/08/kid
 s-·-kids-·-kids.jpg
CATEGORIES:Classes,Online Classes,TIPS Classes,TIPS Sessions
LOCATION:Zoom\, 0000 Zoom \, San Diego\, United States
X-APPLE-STRUCTURED-LOCATION;VALUE=URI;X-ADDRESS=0000 Zoom \, San Diego\, Un
 ited States;X-APPLE-RADIUS=100;X-TITLE=Zoom:geo:0,0
END:VEVENT
BEGIN:VTIMEZONE
TZID:America/Los_Angeles
X-LIC-LOCATION:America/Los_Angeles
BEGIN:STANDARD
DTSTART:20241103T010000
TZOFFSETFROM:-0700
TZOFFSETTO:-0800
TZNAME:PST
END:STANDARD
END:VTIMEZONE
END:VCALENDAR