BEGIN:VCALENDAR
VERSION:2.0
PRODID:-//wp-events-plugin.com//7.2.3.1//EN
TZID:America/Los_Angeles
X-WR-TIMEZONE:America/Los_Angeles
BEGIN:VEVENT
UID:17327@fakce.org
DTSTART;TZID=America/Los_Angeles:20250106T180000
DTEND;TZID=America/Los_Angeles:20250115T210000
DTSTAMP:20241218T155556Z
URL:https://fakce.org/events/online-tips-808z-2025-01-06/
SUMMARY:Online | TIPS #808Z
DESCRIPTION:TIPS is the 12-hour pre-service training program that the Count
 y of San Diego requires prior to approving a resource parent. It consists 
 of four 3-hour training sessions.\n\nYou are registering for Class 808z. T
 he dates for each of the 4 sessions are as follows:\n\nSession # 1 | Monda
 y\, January 6\, 2025\nSession # 2 | Wednesday\, January 8\, 2025\nSession 
 # 3 | Monday January 13\, 2025\nSession # 4 | Wednesday\, January 15\, 20
 25\n\nYou will receive an email confirmation of your registration. The em
 ail will provide you with the first date of the class\, as well as the tim
 e and location. The dates for sessions 2\, 3\, and 4 will not be provide
 d. Please make a note of those dates or reference the main TIPS page- Cli
 ck here.\nRegistration will close on Monday\, January 6\, 2025\, at 7 am\n
 ***Please Note: This TIPS class will be facilitated on the Zoom platform.
 \nInternet access and access to a computer/laptop/tablet/smartphone is req
 uired to attend.\nWe kindly request that participants avoid using distract
 ing virtual backgrounds. For privacy\, we recommend using the blur feature
  instead.\nYou cannot take this class in a vehicle.\nThe Zoom link to atte
 nd this class will be provided via email.\nPlease follow the link below fo
 r a brief tutorial on how to sign up for a free Zoom account.\nZoom User G
 uide
ATTACH;FMTTYPE=image/jpeg:https://fakce.org/wp-content/uploads/2016/08/kid
 s-·-kids-·-kids.jpg
CATEGORIES:Classes,Online Classes,TIPS Classes,TIPS Sessions
LOCATION:Zoom\, 0000 Zoom \, San Diego\, United States
X-APPLE-STRUCTURED-LOCATION;VALUE=URI;X-ADDRESS=0000 Zoom \, San Diego\, Un
 ited States;X-APPLE-RADIUS=100;X-TITLE=Zoom:geo:0,0
END:VEVENT
BEGIN:VTIMEZONE
TZID:America/Los_Angeles
X-LIC-LOCATION:America/Los_Angeles
BEGIN:STANDARD
DTSTART:20241103T010000
TZOFFSETFROM:-0700
TZOFFSETTO:-0800
TZNAME:PST
END:STANDARD
END:VTIMEZONE
END:VCALENDAR