BEGIN:VCALENDAR
VERSION:2.0
PRODID:-//wp-events-plugin.com//7.2.3.1//EN
TZID:America/Los_Angeles
X-WR-TIMEZONE:America/Los_Angeles
BEGIN:VEVENT
UID:17326@fakce.org
DTSTART;TZID=America/Los_Angeles:20250104T090000
DTEND;TZID=America/Los_Angeles:20250111T153000
DTSTAMP:20241218T155624Z
URL:https://fakce.org/events/online-tips-807z-2025-01-04/
SUMMARY:Online | TIPS #807Z
DESCRIPTION:TIPS is the 12-hour pre-service training program that is requir
 ed prior to being approved as a Resource Parent by the County of San Diego
 .  The TIPS training consists of 2\, 6-hour training sessions.\n\nYou are
  registering for Class 807z. The dates for each of the sessions are as fol
 lows:\n\nSession # 1 | Saturday\, January 4\, 2025\, 9am-12pm\nSession # 2
  | Saturday\, January 4\, 2025\, 12:30pm-3:30pm\nSession # 3 | Saturday\, 
 January 11\, 2025\, 9am-12pm\nSession # 4 | Saturday\, January 11\, 2025\,
  12:30pm-3:30pm\n\nYou will receive an email confirmation of your registr
 ation. The email will provide you with the first date of the class\, as we
 ll as the time and location. The dates for sessions 2\, 3\, and 4 will n
 ot be provided. Please make a note of those dates or reference the main TI
 PS page- Click here.\nRegistration will close on Friday\, January 3\, 202
 5\, at 12 pm\n***Please Note: This TIPS class will be facilitated on the 
 Zoom platform.\nInternet access and access to a computer/laptop/tablet/sma
 rtphone is required to attend.\nWe kindly request that participants avoid 
 using distracting virtual backgrounds. For privacy\, we recommend using th
 e blur feature instead.\nYou cannot take this class in a vehicle.\nThe Zoo
 m link to attend this class will be provided via email.\nPlease follow the
  link below for a brief tutorial on how to sign up for a free Zoom account
 .\nZoom User Guide
ATTACH;FMTTYPE=image/jpeg:https://fakce.org/wp-content/uploads/2016/08/kid
 s-·-kids-·-kids.jpg
CATEGORIES:Classes,Online Classes,TIPS Classes,TIPS Sessions
LOCATION:Zoom\, 0000 Zoom \, San Diego\, United States
X-APPLE-STRUCTURED-LOCATION;VALUE=URI;X-ADDRESS=0000 Zoom \, San Diego\, Un
 ited States;X-APPLE-RADIUS=100;X-TITLE=Zoom:geo:0,0
END:VEVENT
BEGIN:VTIMEZONE
TZID:America/Los_Angeles
X-LIC-LOCATION:America/Los_Angeles
BEGIN:STANDARD
DTSTART:20241103T010000
TZOFFSETFROM:-0700
TZOFFSETTO:-0800
TZNAME:PST
END:STANDARD
END:VTIMEZONE
END:VCALENDAR