BEGIN:VCALENDAR
VERSION:2.0
PRODID:-//wp-events-plugin.com//7.2.3.1//EN
TZID:America/Los_Angeles
X-WR-TIMEZONE:America/Los_Angeles
BEGIN:VEVENT
UID:17246@fakce.org
DTSTART;TZID=America/Los_Angeles:20241107T180000
DTEND;TZID=America/Los_Angeles:20241119T210000
DTSTAMP:20240811T170021Z
URL:https://fakce.org/events/online-tips-795z-2024-11-07/
SUMMARY:Online | TIPS #795Z
DESCRIPTION:TIPS is the 12-hour pre-service training program that is requir
 ed prior to being approved as a Resource Parent by the County of San Diego
 .  The TIPS training consists of 4\, 3-hour training sessions.\n\nYou are
  registering for Class 795z. The dates for each of the 4 sessions are as f
 ollows:\n\nSession # 1 | Thursday\, November 7\, 2024\nSession # 2 | Tuesd
 ay\, November 12\, 2024\nSession # 3 | Thursday\, November 14\, 2024\nSess
 ion # 4 | Tuesday\, November 19\, 2024\n\nYou will receive a confirmation 
 of your registration by email.  The email will provide you with the first
  date of the class\, as well as the time and location. The dates for sessi
 ons 2\, 3\, and 4 will not be provided.  Please make note of those dates 
 or reference the main TIPS page\nRegistration will close on Thursday\, Nov
 ember 7\, 2024\, at 7 am\n***Please Note: This TIPS class will be facilita
 ted on the Zoom platform. \nInternet access and access to a computer/lapto
 p/tablet/smartphone is required to attend.\nThe link to attend this class 
 will be provided via email.\nPlease follow the link below for a brief tuto
 rial on how to sign up for a free Zoom account.\nZoom User Guide\n&nbsp\;
ATTACH;FMTTYPE=image/jpeg:https://fakce.org/wp-content/uploads/2016/08/kid
 s-·-kids-·-kids.jpg
CATEGORIES:Classes,Online Classes,TIPS Classes,TIPS Sessions
LOCATION:Zoom\, 0000 Zoom \, San Diego\, United States
X-APPLE-STRUCTURED-LOCATION;VALUE=URI;X-ADDRESS=0000 Zoom \, San Diego\, Un
 ited States;X-APPLE-RADIUS=100;X-TITLE=Zoom:geo:0,0
END:VEVENT
BEGIN:VTIMEZONE
TZID:America/Los_Angeles
X-LIC-LOCATION:America/Los_Angeles
BEGIN:STANDARD
DTSTART:20241103T010000
TZOFFSETFROM:-0700
TZOFFSETTO:-0800
TZNAME:PST
END:STANDARD
END:VTIMEZONE
END:VCALENDAR