BEGIN:VCALENDAR
VERSION:2.0
PRODID:-//wp-events-plugin.com//7.2.3.1//EN
TZID:America/Los_Angeles
X-WR-TIMEZONE:America/Los_Angeles
BEGIN:VEVENT
UID:17244@fakce.org
DTSTART;TZID=America/Los_Angeles:20241102T090000
DTEND;TZID=America/Los_Angeles:20241109T153000
DTSTAMP:20240811T160148Z
URL:https://fakce.org/events/online-tips-793z-2024-11-02/
SUMMARY:Online | TIPS #793Z
DESCRIPTION:TIPS is the 12-hour pre-service training program that is requir
 ed prior to being approved as a Resource Parent by the County of San Diego
 .  The TIPS training consists of 2\, 6-hour training sessions.\n\nYou are
  registering for Class 793z. The dates for each of the sessions are as fol
 lows:\n\nSession # 1 | Saturday\, November 2\, 2024\, 9am-12pm\nSession # 
 2 | Saturday\, November 2\, 2024\, 12:30pm-3:30pm\nSession # 3 | Saturday\
 , November 9\, 2024\, 9am-12pm\nSession # 4 | Saturday\, November 9\, 2024
 \, 12:30pm-3:30pm\n\nYou will receive a confirmation of your registration 
 by email.  The email will provide you with the first date of the class\, 
 as well as the time and location. The dates for sessions 2\, 3\, and 4 wil
 l not be provided.  Please make note of those dates or reference the main
  TIPS page\nRegistration will close on Friday\, November 1\, 2024 at 12 pm
 \n***Please Note: This TIPS class will be facilitated on the Zoom platform
 .\n Internet access and access to a computer/laptop/tablet/smartphone is r
 equired to attend.\nThe link to attend this class will be provided via ema
 il.\nPlease follow the link below for a brief tutorial on how to sign up f
 or a free Zoom account.\nZoom User Guide
ATTACH;FMTTYPE=image/jpeg:https://fakce.org/wp-content/uploads/2016/08/kid
 s-·-kids-·-kids.jpg
CATEGORIES:Classes,Online Classes,TIPS Classes,TIPS Sessions
LOCATION:Zoom\, 0000 Zoom \, San Diego\, United States
X-APPLE-STRUCTURED-LOCATION;VALUE=URI;X-ADDRESS=0000 Zoom \, San Diego\, Un
 ited States;X-APPLE-RADIUS=100;X-TITLE=Zoom:geo:0,0
END:VEVENT
BEGIN:VTIMEZONE
TZID:America/Los_Angeles
X-LIC-LOCATION:America/Los_Angeles
BEGIN:DAYLIGHT
DTSTART:20240310T030000
TZOFFSETFROM:-0800
TZOFFSETTO:-0700
TZNAME:PDT
END:DAYLIGHT
BEGIN:STANDARD
DTSTART:20241103T010000
TZOFFSETFROM:-0700
TZOFFSETTO:-0800
TZNAME:PST
END:STANDARD
END:VTIMEZONE
END:VCALENDAR