BEGIN:VCALENDAR
VERSION:2.0
PRODID:-//wp-events-plugin.com//7.2.3.1//EN
TZID:America/Los_Angeles
X-WR-TIMEZONE:America/Los_Angeles
BEGIN:VEVENT
UID:17243@fakce.org
DTSTART;TZID=America/Los_Angeles:20241030T180000
DTEND;TZID=America/Los_Angeles:20241113T210000
DTSTAMP:20240811T155705Z
URL:https://fakce.org/events/online-tips-792z-2024-10-30/
SUMMARY:Online | TIPS #792Z
DESCRIPTION:TIPS is the 12-hour pre-service training program that is requir
 ed prior to being approved as a Resource Parent by the County of San Diego
 .\n\nThe TIPS training consists of 4\, 3-hour training sessions.\n\nYou ar
 e registering for Class 792z.\n\nThe dates for each of the 4 sessions are 
 as follows:\n\nSession # 1 | Wednesday\, October 30\, 2024\nSession # 2 | 
 Monday\, November 4\, 2024\nSession # 3 | Wednesday\, November 6\, 2024\nS
 ession # 4 | Wednesday\, November 13\, 2024\n\nYou will receive a confirma
 tion of your registration by email.  The email will provide you with the 
 first date of the class\, as well as the time and location. The dates for 
 sessions 2\, 3\, and 4 will not be provided.  Please make note of those d
 ates or reference the main TIPS page\nRegistration will close on Wednesday
 \, October 30\, 2024\, @ 7 am\n***Please Note: This TIPS class will be fac
 ilitated on the Zoom platform. \nInternet access and access to a computer/
 laptop/tablet/smartphone is required to attend.\nThe link to attend this c
 lass will be provided via email.\nPlease follow the link below for a brief
  tutorial on how to sign up for a free Zoom account.\nZoom User Guide
ATTACH;FMTTYPE=image/jpeg:https://fakce.org/wp-content/uploads/2016/08/kid
 s-·-kids-·-kids.jpg
CATEGORIES:Classes,Online Classes,TIPS Classes,TIPS Sessions
LOCATION:Zoom\, 0000 Zoom \, San Diego\, United States
X-APPLE-STRUCTURED-LOCATION;VALUE=URI;X-ADDRESS=0000 Zoom \, San Diego\, Un
 ited States;X-APPLE-RADIUS=100;X-TITLE=Zoom:geo:0,0
END:VEVENT
BEGIN:VTIMEZONE
TZID:America/Los_Angeles
X-LIC-LOCATION:America/Los_Angeles
BEGIN:DAYLIGHT
DTSTART:20240310T030000
TZOFFSETFROM:-0800
TZOFFSETTO:-0700
TZNAME:PDT
END:DAYLIGHT
BEGIN:STANDARD
DTSTART:20241103T010000
TZOFFSETFROM:-0700
TZOFFSETTO:-0800
TZNAME:PST
END:STANDARD
END:VTIMEZONE
END:VCALENDAR