BEGIN:VCALENDAR
VERSION:2.0
PRODID:-//wp-events-plugin.com//7.2.3.1//EN
TZID:America/Los_Angeles
X-WR-TIMEZONE:America/Los_Angeles
BEGIN:VEVENT
UID:17241@fakce.org
DTSTART;TZID=America/Los_Angeles:20241021T180000
DTEND;TZID=America/Los_Angeles:20241030T210000
DTSTAMP:20240811T154618Z
URL:https://fakce.org/events/online-tips-790z-2024-10-21/
SUMMARY:Online | TIPS #790z
DESCRIPTION:TIPS is the 12-hour pre-service training program that is requir
 ed before being approved as a Resource Parent by the County of San Diego.
   The TIPS training consists of 4\, 3-hour training sessions.\n\nYou are 
 registering for Class 790z. The dates for each of the 4 sessions are as fo
 llows:\n\nSession # 1 | Monday\, October 21\, 2024\nSession # 2 | Wednesda
 y\, October 23\, 2024\nSession # 3 | Monday\, October 28\, 2024\nSession #
  4 | Wednesday\, October 30\, 2024\n\nYou will receive a confirmation of y
 our registration by email.  The email will provide you with the first dat
 e of the class\, as well as the time and location. The dates for sessions 
 2\, 3\, and 4 will not be provided.  Please make note of those dates or r
 eference the main TIPS page\nRegistration will close on Monday\, October 2
 1\, 2024 @ 7 am\n***Please Note: This TIPS class will be facilitated on th
 e Zoom platform. \nInternet access and access to a computer/laptop/tablet/
 smartphone is required to attend.\nThe link to attend this class will be p
 rovided via email.\nPlease follow the link below for a brief tutorial on h
 ow to sign up for a free Zoom account.\nZoom User Guide\n&nbsp\;
ATTACH;FMTTYPE=image/jpeg:https://fakce.org/wp-content/uploads/2016/08/kid
 s-·-kids-·-kids.jpg
CATEGORIES:Classes,Online Classes,TIPS Classes,TIPS Sessions
LOCATION:Zoom\, 0000 Zoom \, San Diego\, United States
X-APPLE-STRUCTURED-LOCATION;VALUE=URI;X-ADDRESS=0000 Zoom \, San Diego\, Un
 ited States;X-APPLE-RADIUS=100;X-TITLE=Zoom:geo:0,0
END:VEVENT
BEGIN:VTIMEZONE
TZID:America/Los_Angeles
X-LIC-LOCATION:America/Los_Angeles
BEGIN:DAYLIGHT
DTSTART:20240310T030000
TZOFFSETFROM:-0800
TZOFFSETTO:-0700
TZNAME:PDT
END:DAYLIGHT
END:VTIMEZONE
END:VCALENDAR