BEGIN:VCALENDAR
VERSION:2.0
PRODID:-//wp-events-plugin.com//7.2.3.1//EN
TZID:America/Los_Angeles
X-WR-TIMEZONE:America/Los_Angeles
BEGIN:VEVENT
UID:17238@fakce.org
DTSTART;TZID=America/Los_Angeles:20241017T180000
DTEND;TZID=America/Los_Angeles:20241029T210000
DTSTAMP:20240811T153129Z
URL:https://fakce.org/events/online-tips-787z-2024-10-17/
SUMMARY:Online | TIPS #787Z
DESCRIPTION:TIPS is the 12-hour pre-service training program that is requir
 ed prior to being approved as a Resource Parent by the County of San Diego
 .  The TIPS training consists of 4\, 3-hour training sessions.\n\nYou are
  registering for Class 787z. The dates for each of the 4 sessions are as f
 ollows:\n\nSession # 1 | Thursday\, October 17\, 2024\nSession # 2 | Tuesd
 ay\, October 22\, 2024\nSession # 3 | Thursday\, October 24\, 2024\nSessio
 n # 4 | Tuesday\, October 29\, 2024\n\nYou will receive a confirmation of 
 your registration by email.  The email will provide you with the first da
 te of the class\, as well as the time and location. The dates for sessions
  2\, 3\, and 4 will not be provided.  Please make note of those dates or 
 reference the main TIPS page\nRegistration will close on Thursday\, Octobe
 r 17\, 2024\, at 7 am\n***Please Note: This TIPS class will be facilitated
  on the Zoom platform. \nInternet access and access to a computer/laptop/t
 ablet/smartphone is required to attend.\nThe link to attend this class wil
 l be provided via email.\nPlease follow the link below for a brief tutoria
 l on how to sign up for a free Zoom account.\nZoom User Guide\n&nbsp\;
ATTACH;FMTTYPE=image/jpeg:https://fakce.org/wp-content/uploads/2016/08/kid
 s-·-kids-·-kids.jpg
CATEGORIES:Classes,Online Classes,TIPS Classes,TIPS Sessions
LOCATION:Zoom\, 0000 Zoom \, San Diego\, United States
X-APPLE-STRUCTURED-LOCATION;VALUE=URI;X-ADDRESS=0000 Zoom \, San Diego\, Un
 ited States;X-APPLE-RADIUS=100;X-TITLE=Zoom:geo:0,0
END:VEVENT
BEGIN:VTIMEZONE
TZID:America/Los_Angeles
X-LIC-LOCATION:America/Los_Angeles
BEGIN:DAYLIGHT
DTSTART:20240310T030000
TZOFFSETFROM:-0800
TZOFFSETTO:-0700
TZNAME:PDT
END:DAYLIGHT
END:VTIMEZONE
END:VCALENDAR