BEGIN:VCALENDAR
VERSION:2.0
PRODID:-//wp-events-plugin.com//7.2.3.1//EN
TZID:America/Los_Angeles
X-WR-TIMEZONE:America/Los_Angeles
BEGIN:VEVENT
UID:17068@fakce.org
DTSTART;TZID=America/Los_Angeles:20240715T180000
DTEND;TZID=America/Los_Angeles:20240724T210000
DTSTAMP:20240423T163553Z
URL:https://fakce.org/events/online-tips-756z-2024-07-15/
SUMMARY:Online | TIPS #756z
DESCRIPTION:TIPS is the 12-hour pre-service training program that is requir
 ed before being approved as a Resource Parent by the County of San Diego.
   The TIPS training consists of 4\, 3-hour training sessions.\n\nYou are 
 registering for Class 756z. The dates for each of the 4 sessions are as fo
 llows:\n\nSession # 1 | Monday\, July 15\, 2024\nSession # 2 | Wednesday\,
  July 17\, 2024\nSession # 3 | Monday\, July 22\, 2024\nSession # 4 | Wedn
 esday\, July 24\, 2024\n\nYou will receive a confirmation of your registra
 tion by email.  The email will provide you with the first date of the cla
 ss\, as well as the time and location. The dates for sessions 2\, 3\, and 
 4 will not be provided.  Please make note of those dates or reference the
  main TIPS page\nRegistration will close on Monday\, July 15\, 2024 @ 7 am
 \n***Please Note: This TIPS class will be facilitated on the online platfo
 rm called Zoom. Internet access and access to a computer/laptop/tablet/sma
 rtphone is required to attend.\nThe link to attend this class will be prov
 ided at registration.\nPlease follow the link below for a brief tutorial o
 n how to sign up for a free Zoom account.\nZoom User Guide\n&nbsp\;
ATTACH;FMTTYPE=image/jpeg:https://fakce.org/wp-content/uploads/2016/08/kid
 s-·-kids-·-kids.jpg
CATEGORIES:Classes,Online Classes,TIPS Classes,TIPS Sessions
LOCATION:Zoom\, 0000 Zoom \, San Diego\, United States
X-APPLE-STRUCTURED-LOCATION;VALUE=URI;X-ADDRESS=0000 Zoom \, San Diego\, Un
 ited States;X-APPLE-RADIUS=100;X-TITLE=Zoom:geo:0,0
END:VEVENT
BEGIN:VTIMEZONE
TZID:America/Los_Angeles
X-LIC-LOCATION:America/Los_Angeles
BEGIN:DAYLIGHT
DTSTART:20240310T030000
TZOFFSETFROM:-0800
TZOFFSETTO:-0700
TZNAME:PDT
END:DAYLIGHT
END:VTIMEZONE
END:VCALENDAR