BEGIN:VCALENDAR
VERSION:2.0
PRODID:-//wp-events-plugin.com//7.2.3.1//EN
TZID:America/Los_Angeles
X-WR-TIMEZONE:America/Los_Angeles
BEGIN:VEVENT
UID:15558@fakce.org
DTSTART;TZID=America/Los_Angeles:20230427T180000
DTEND;TZID=America/Los_Angeles:20230509T210000
DTSTAMP:20230125T000156Z
URL:https://fakce.org/events/online-tips-627z-2023-04-27/
SUMMARY:Online | TIPS #627Z
DESCRIPTION:TIPS is the 12-hour pre-service training program that is requir
 ed prior to being approved as a Resource Parent by the County of San Diego
 .  The TIPS training consists of 4\, 3-hour training sessions.\n\nYou are
  registering for Class 627z. The dates for each of the 4 sessions are as f
 ollows:\n\nSession # 1 | Thursday\, April 27\, 2023\nSession # 2 | Tuesday
 \, May 02\, 2023\nSession # 3 | Thursday\, May 04\, 2023\nSession # 4 | Tu
 esday\, May 09\, 2023\n\nYou will receive a confirmation of your registrat
 ion by email.  The email will provide you with the first date on the clas
 s\, as well as the time and location. The dates for sessions 2\, 3 and 4 
 will not be provided.  Please make note of those dates or reference the m
 ain TIPS page\nRegistration will close on Thursday\, April 27\, at 7am\n**
 *Please Note: This TIPS class will be facilitated on the online platform c
 alled Zoom. Internet access and access to a computer/laptop/tablet/smartph
 one is required to attend.\nThe link to attend this class will be provided
  at registration.\nPlease follow the link below for a brief tutorial on ho
 w to sign up for a free Zoom account.\nZoom User Guide
ATTACH;FMTTYPE=image/jpeg:https://fakce.org/wp-content/uploads/2016/08/kid
 s-·-kids-·-kids.jpg
CATEGORIES:Classes,Online Classes,TIPS Classes,TIPS Sessions
LOCATION:Zoom\, 0000 Zoom \, San Diego\, United States
X-APPLE-STRUCTURED-LOCATION;VALUE=URI;X-ADDRESS=0000 Zoom \, San Diego\, Un
 ited States;X-APPLE-RADIUS=100;X-TITLE=Zoom:geo:0,0
END:VEVENT
BEGIN:VTIMEZONE
TZID:America/Los_Angeles
X-LIC-LOCATION:America/Los_Angeles
BEGIN:DAYLIGHT
DTSTART:20230312T030000
TZOFFSETFROM:-0800
TZOFFSETTO:-0700
TZNAME:PDT
END:DAYLIGHT
END:VTIMEZONE
END:VCALENDAR