BEGIN:VCALENDAR
VERSION:2.0
PRODID:-//wp-events-plugin.com//7.2.3.1//EN
TZID:America/Los_Angeles
X-WR-TIMEZONE:America/Los_Angeles
BEGIN:VEVENT
UID:15553@fakce.org
DTSTART;TZID=America/Los_Angeles:20230415T090000
DTEND;TZID=America/Los_Angeles:20230422T153000
DTSTAMP:20230124T220114Z
URL:https://fakce.org/events/online-tips-622z-2023-04-15/
SUMMARY:Online | TIPS #622Z
DESCRIPTION:TIPS is the 12-hour pre-service training program that is requir
 ed prior to being approved as a Resource Parent by the County of San Diego
 .  The TIPS training consists of 2\, 6-hour training sessions.\n\nYou are
  registering for Class 622Z. The dates for each of the sessions are as fol
 lows:\n\nSession # 1 | Saturday\, April 15\, 2023\, 9am-12pm\nSession # 2 
 | Saturday\, April 15\, 2023\, 12:30pm-3:30pm\nSession # 3 | Saturday\, Ap
 ril 22\, 2023\, 9am-12pm\nSession # 4 | Saturday\, April 22\, 2023\, 12:30
 pm-3:30pm\n\nYou will receive a confirmation of your registration by email
 .  The email will provide you with the first date on the class\, as well 
 as the time and location. The dates for sessions 2\, 3 and 4 will not be 
 provided.  Please make note of those dates or reference the main TIPS pag
 e\nRegistration will close on Friday\, April 14\, 2023 at 12pm\n***Please 
 Note: This TIPS class will be facilitated on the online platform called Zo
 om. Internet access and access to a computer/laptop/tablet/smartphone is r
 equired to attend.\nThe link to attend this class will be provided at regi
 stration.\nPlease follow the link below for a brief tutorial on how to sig
 n up for a free Zoom account.\nZoom User Guide
ATTACH;FMTTYPE=image/jpeg:https://fakce.org/wp-content/uploads/2016/08/kid
 s-·-kids-·-kids.jpg
CATEGORIES:Classes,Online Classes,TIPS Classes,TIPS Sessions
LOCATION:Zoom\, 0000 Zoom \, San Diego\, United States
X-APPLE-STRUCTURED-LOCATION;VALUE=URI;X-ADDRESS=0000 Zoom \, San Diego\, Un
 ited States;X-APPLE-RADIUS=100;X-TITLE=Zoom:geo:0,0
END:VEVENT
BEGIN:VTIMEZONE
TZID:America/Los_Angeles
X-LIC-LOCATION:America/Los_Angeles
BEGIN:DAYLIGHT
DTSTART:20230312T030000
TZOFFSETFROM:-0800
TZOFFSETTO:-0700
TZNAME:PDT
END:DAYLIGHT
END:VTIMEZONE
END:VCALENDAR