BEGIN:VCALENDAR
VERSION:2.0
PRODID:-//wp-events-plugin.com//7.2.3.1//EN
TZID:America/Los_Angeles
X-WR-TIMEZONE:America/Los_Angeles
BEGIN:VEVENT
UID:14693@fakce.org
DTSTART;TZID=America/Los_Angeles:20220913T180000
DTEND;TZID=America/Los_Angeles:20220922T210000
DTSTAMP:20220702T125858Z
URL:https://fakce.org/events/online-tips-554z-2022-09-13/
SUMMARY:Online | TIPS #554Z
DESCRIPTION:TIPS is the 12-hour pre-service training program that is requir
 ed prior to being approved as a Resource Parent by the County of San Diego
 .  The TIPS training consists of 4\, 3-hour training sessions.\n\nYou are
  registering for Class 554Z. The dates for each of the 4 sessions are as f
 ollows:\n\nSession # 1 | Tuesday\, September 13\, 2022\nSession # 2 | Thur
 sday\, September 15\, 2022\nSession # 3 | Tuesday\, September 20\, 2022\nS
 ession # 4 | Thursday\, September 22 \, 2022\n\nYou will receive a confirm
 ation of your registration by email.  The email will provide you with the
  first date on the class\, as well as the time and location. The dates for
  sessions 2\, 3 and 4 will not be provided.  Please make note of those d
 ates or reference the main TIPS page\nRegistration will close on Tuesday\,
  September 13 at 7am\n***Please Note: This TIPS class will be facilitated 
 on the online platform called Zoom. Internet access and access to a comput
 er/laptop/tablet/smartphone is required to attend.\nThe link to attend thi
 s class will be provided at registration.\nPlease follow the link below fo
 r a brief tutorial on how to sign up for a free Zoom account.\nZoom User G
 uide
ATTACH;FMTTYPE=image/jpeg:https://fakce.org/wp-content/uploads/2016/08/kid
 s-·-kids-·-kids.jpg
CATEGORIES:Classes,Online Classes,TIPS Classes,TIPS Sessions
LOCATION:Zoom\, 0000 Zoom \, San Diego\, United States
X-APPLE-STRUCTURED-LOCATION;VALUE=URI;X-ADDRESS=0000 Zoom \, San Diego\, Un
 ited States;X-APPLE-RADIUS=100;X-TITLE=Zoom:geo:0,0
END:VEVENT
BEGIN:VTIMEZONE
TZID:America/Los_Angeles
X-LIC-LOCATION:America/Los_Angeles
BEGIN:DAYLIGHT
DTSTART:20220313T030000
TZOFFSETFROM:-0800
TZOFFSETTO:-0700
TZNAME:PDT
END:DAYLIGHT
END:VTIMEZONE
END:VCALENDAR