BEGIN:VCALENDAR
VERSION:2.0
PRODID:-//wp-events-plugin.com//7.2.3.1//EN
TZID:America/Los_Angeles
X-WR-TIMEZONE:America/Los_Angeles
BEGIN:VEVENT
UID:14638@fakce.org
DTSTART;TZID=America/Los_Angeles:20220826T180000
DTEND;TZID=America/Los_Angeles:20220916T210000
DTSTAMP:20220616T134951Z
URL:https://fakce.org/events/online-tips-548z-2022-08-26/
SUMMARY:Online | TIPS #548Z
DESCRIPTION:TIPS is the 12-hour pre-service training program that is requir
 ed prior to being approved as a Resource Parent by the County of San Diego
 .  The TIPS training consists of 4\, 3-hour training sessions.\n\nYou are
  registering for Class 548Z. The dates for each of the 4 sessions are as f
 ollows:\n\nSession # 1 | Friday\, August 26\, 2022\nSession # 2 | Friday\,
  September 2\, 2022\nSession # 3 | Friday\, September 9\, 2022\nSession # 
 4 | Friday\, September 16\, 2022\n\nYou will receive a confirmation of you
 r registration by email.  The email will provide you with the first date 
 on the class\, as well as the time and location. The dates for sessions 2\
 , 3 and 4 will not be provided.  Please make note of those dates or refe
 rence the main TIPS page\nRegistration will close on Friday\, August 26\, 
 2022 at 7am\n***Please Note: This TIPS class will be facilitated on the on
 line platform called Zoom. Internet access and access to a computer/laptop
 /tablet/smartphone is required to attend.\nThe link to attend this class w
 ill be provided at registration.\nPlease follow the link below for a brief
  tutorial on how to sign up for a free Zoom account.\nZoom User Guide
ATTACH;FMTTYPE=image/jpeg:https://fakce.org/wp-content/uploads/2016/08/kid
 s-·-kids-·-kids.jpg
CATEGORIES:Classes,Online Classes,TIPS Classes,TIPS Sessions
LOCATION:Zoom\, 0000 Zoom \, San Diego\, United States
X-APPLE-STRUCTURED-LOCATION;VALUE=URI;X-ADDRESS=0000 Zoom \, San Diego\, Un
 ited States;X-APPLE-RADIUS=100;X-TITLE=Zoom:geo:0,0
END:VEVENT
BEGIN:VTIMEZONE
TZID:America/Los_Angeles
X-LIC-LOCATION:America/Los_Angeles
BEGIN:DAYLIGHT
DTSTART:20220313T030000
TZOFFSETFROM:-0800
TZOFFSETTO:-0700
TZNAME:PDT
END:DAYLIGHT
END:VTIMEZONE
END:VCALENDAR