BEGIN:VCALENDAR
VERSION:2.0
PRODID:-//wp-events-plugin.com//7.2.3.1//EN
TZID:America/Los_Angeles
X-WR-TIMEZONE:America/Los_Angeles
BEGIN:VEVENT
UID:14583@fakce.org
DTSTART;TZID=America/Los_Angeles:20220716T090000
DTEND;TZID=America/Los_Angeles:20220723T153000
DTSTAMP:20220712T145932Z
URL:https://fakce.org/events/online-tips-535z-2022-07-16/
SUMMARY:Online | TIPS #535Z
DESCRIPTION:TIPS is the 12-hour pre-service training program that is requir
 ed prior to being approved as a Resource Parent by the County of San Diego
 .  The TIPS training consists of 2\, 6-hour training sessions.\n\nYou are
  registering for Class 535Z. The dates for each of the 2 sessions are as f
 ollows:\n\nSession # 1 &amp\; 2 | Saturday\, July 16\, 2022\nSession # 3 &
 amp\; 4 | Saturday\, July 23\, 2022\n\nYou will receive a confirmation of 
 your registration by email.  The email will provide you with the first da
 te on the class\, as well as the time and location. The dates for sessions
  2\, 3 and 4 will not be provided.  Please make note of those dates or r
 eference the main TIPS page\nRegistration will close on Thursday\, July 14
 \, 2022 at 12pm\n***Please Note: This TIPS class will be facilitated on th
 e online platform called Zoom. Internet access and access to a computer/la
 ptop/tablet/smartphone is required to attend.\nThe link to attend this cla
 ss will be provided at registration.\nPlease follow the link below for a b
 rief tutorial on how to sign up for a free Zoom account.\nZoom User Guide
ATTACH;FMTTYPE=image/jpeg:https://fakce.org/wp-content/uploads/2016/08/kid
 s-·-kids-·-kids.jpg
CATEGORIES:Classes,Online Classes,TIPS Classes,TIPS Sessions
LOCATION:Zoom\, 0000 Zoom \, San Diego\, United States
X-APPLE-STRUCTURED-LOCATION;VALUE=URI;X-ADDRESS=0000 Zoom \, San Diego\, Un
 ited States;X-APPLE-RADIUS=100;X-TITLE=Zoom:geo:0,0
END:VEVENT
BEGIN:VTIMEZONE
TZID:America/Los_Angeles
X-LIC-LOCATION:America/Los_Angeles
BEGIN:DAYLIGHT
DTSTART:20220313T030000
TZOFFSETFROM:-0800
TZOFFSETTO:-0700
TZNAME:PDT
END:DAYLIGHT
END:VTIMEZONE
END:VCALENDAR