BEGIN:VCALENDAR
VERSION:2.0
PRODID:-//wp-events-plugin.com//7.2.3.1//EN
TZID:America/Los_Angeles
X-WR-TIMEZONE:America/Los_Angeles
BEGIN:VEVENT
UID:13772@fakce.org
DTSTART;TZID=America/Los_Angeles:20220208T180000
DTEND;TZID=America/Los_Angeles:20220217T210000
DTSTAMP:20211208T193928Z
URL:https://fakce.org/events/online-tips-489z-2022-02-08/
SUMMARY:Online | TIPS #489Z
DESCRIPTION:TIPS is the 12-hour pre-service training program that is requir
 ed prior to being approved as a Resource Parent by the County of San Diego
 .  The TIPS training consists of 4\, 3-hour training sessions.\n\nYou are
  registering for Class 489Z. The dates for each of the 4 sessions are as f
 ollows:\n\nSession # 1 | Tuesday\, February 8\, 2022\nSession # 2 | Thursd
 ay\, February 10\, 2022\nSession # 3 | Tuesday\, February 15\, 2022\nSessi
 on # 4 | Thursday\, February 17\, 2022\n\nYou will receive a confirmation 
 of your registration by email.  The email will provide you with the first
  date on the class\, as well as the time and location. The dates for sessi
 ons 2\, 3 and 4 will not be provided.  Please make note of those dates o
 r reference the main TIPS page\nRegistration will close on Tuesday\, Febru
 ary 8 at 7am\n***Please Note: This TIPS class will be facilitated on the o
 nline platform called Zoom. Internet access and access to a computer/lapto
 p/tablet/smartphone is required to attend.\nThe link to attend this class 
 will be provided at registration.\nPlease follow the link below for a brie
 f tutorial on how to sign up for a free Zoom account.\nZoom User Guide
ATTACH;FMTTYPE=image/jpeg:https://fakce.org/wp-content/uploads/2016/08/kid
 s-·-kids-·-kids.jpg
CATEGORIES:Classes,Online Classes,TIPS Classes,TIPS Sessions
LOCATION:Zoom\, 0000 Zoom \, San Diego\, United States
X-APPLE-STRUCTURED-LOCATION;VALUE=URI;X-ADDRESS=0000 Zoom \, San Diego\, Un
 ited States;X-APPLE-RADIUS=100;X-TITLE=Zoom:geo:0,0
END:VEVENT
BEGIN:VTIMEZONE
TZID:America/Los_Angeles
X-LIC-LOCATION:America/Los_Angeles
BEGIN:STANDARD
DTSTART:20211107T010000
TZOFFSETFROM:-0700
TZOFFSETTO:-0800
TZNAME:PST
END:STANDARD
END:VTIMEZONE
END:VCALENDAR