BEGIN:VCALENDAR
VERSION:2.0
PRODID:-//wp-events-plugin.com//7.2.3.1//EN
TZID:America/Los_Angeles
X-WR-TIMEZONE:America/Los_Angeles
BEGIN:VEVENT
UID:18460@fakce.org
DTSTART;TZID=America/Los_Angeles:20260227T180000
DTEND;TZID=America/Los_Angeles:20260227T210000
DTSTAMP:20260115T200920Z
URL:https://fakce.org/events/online-the-value-of-affirmations-2026-02-27/
SUMMARY:Online | The Value of Affirmations
DESCRIPTION:Instructors: Nicole Espinosa\, LCSW &amp\; Jeanne Schwertfeger\
 , Resource/Adoptive Parent\nDescription: Many children and youth in foster
  care struggle with low self‐esteem. In this workshop\, caregivers will 
 learn ways to help children at diﬀerent ages to identify their strengths
 \, develop positive feelings\, and self‐ value by providing aﬃrmation 
 and positive mindfulness. Positive aﬃrmations and mantras will also be t
 aught to caregivers to assist in helping caregivers to be healing\, therap
 eutic parents and to feel good about being a parent.\n***Please Note: This
  support group will be facilitated on the online platform called Zoom. Int
 ernet access and access to a computer/laptop/tablet/smartphone is required
  to attend.\nThe link to attend this class will be provided at registratio
 n.\nPlease follow the link below for a brief tutorial on how to sign up fo
 r a free Zoom account.\nZoom User Guide
ATTACH;FMTTYPE=image/jpeg:https://fakce.org/wp-content/uploads/2016/08/kid
 s-·-kids-·-kids.jpg
CATEGORIES:Classes,Online Classes,Specialty Classes
LOCATION:Zoom\, 0000 Zoom \, San Diego\, United States
X-APPLE-STRUCTURED-LOCATION;VALUE=URI;X-ADDRESS=0000 Zoom \, San Diego\, Un
 ited States;X-APPLE-RADIUS=100;X-TITLE=Zoom:geo:0,0
END:VEVENT
BEGIN:VTIMEZONE
TZID:America/Los_Angeles
X-LIC-LOCATION:America/Los_Angeles
BEGIN:STANDARD
DTSTART:20251102T010000
TZOFFSETFROM:-0700
TZOFFSETTO:-0800
TZNAME:PST
END:STANDARD
END:VTIMEZONE
END:VCALENDAR