BEGIN:VCALENDAR
VERSION:2.0
PRODID:-//wp-events-plugin.com//7.2.3.1//EN
TZID:America/Los_Angeles
X-WR-TIMEZONE:America/Los_Angeles
BEGIN:VEVENT
UID:15831@fakce.org
DTSTART;TZID=America/Los_Angeles:20230829T180000
DTEND;TZID=America/Los_Angeles:20230829T210000
DTSTAMP:20230613T191203Z
URL:https://fakce.org/events/online-the-value-of-a%ef%ac%83rmation-2023-08
 -29/
SUMMARY:Online | The Value of Aﬃrmation
DESCRIPTION:Many children and youth in foster care struggle with low self
 ‐esteem. In this workshop\, caregivers will learn ways to help children 
 at diﬀerent ages to identify their strengths\, develop positive feelings
 \, and self‐ value by providing aﬃrmation and positive mindfulness.\n\
 nPositive aﬃrmations and mantras will also be taught to caregivers to as
 sist in helping caregivers to be healing\, therapeutic parents and to feel
  good about being a parent.\nRegistration will close on Tuesday\, August 2
 9\, 2023\, at 7 am\n***Please Note: This class will be facilitated on the 
 online platform called Zoom. Internet access and access to a computer/lapt
 op/tablet/smartphone is required to attend.\nThe link to attend this class
  will be provided at registration.\nPlease follow the link below for a bri
 ef tutorial on how to sign up for a free Zoom account.\nZoom User Guide
ATTACH;FMTTYPE=image/jpeg:https://fakce.org/wp-content/uploads/2016/08/o-C
 LASSROOM-facebook.jpg
CATEGORIES:Classes,Online Classes,Specialty Classes
LOCATION:Zoom\, 0000 Zoom \, San Diego\, United States
X-APPLE-STRUCTURED-LOCATION;VALUE=URI;X-ADDRESS=0000 Zoom \, San Diego\, Un
 ited States;X-APPLE-RADIUS=100;X-TITLE=Zoom:geo:0,0
END:VEVENT
BEGIN:VTIMEZONE
TZID:America/Los_Angeles
X-LIC-LOCATION:America/Los_Angeles
BEGIN:DAYLIGHT
DTSTART:20230312T030000
TZOFFSETFROM:-0800
TZOFFSETTO:-0700
TZNAME:PDT
END:DAYLIGHT
END:VTIMEZONE
END:VCALENDAR