BEGIN:VCALENDAR
VERSION:2.0
PRODID:-//wp-events-plugin.com//7.2.3.1//EN
TZID:America/Los_Angeles
X-WR-TIMEZONE:America/Los_Angeles
BEGIN:VEVENT
UID:18432@fakce.org
DTSTART;TZID=America/Los_Angeles:20260121T150000
DTEND;TZID=America/Los_Angeles:20260121T180000
DTSTAMP:20251223T212814Z
URL:https://fakce.org/events/online-the-top-ten-myths-about-trauma-and-tru
 ths-every-parent-needs-to-know-2026-01-21/
SUMMARY:Online | The Top Ten Myths about Trauma-and Truths EVERY Parent Nee
 ds to Know
DESCRIPTION:Description: Information and understanding about trauma has dra
 matically improved in recent years\, including what trauma is\; what cause
 s it\; how it aﬀects children’s brains\, bodies\, and behaviors\; and 
 how to heal it. Unfortunately\, most adults\, including both parents and f
 amily service professionals cannot recognize most signs as trauma and are 
 reacting to them in ways that aren’t working and\, in many cases\, may b
 e making matters worse. Join us to learn the Top Ten Myths about Trauma an
 d the Truths that can help you prevent trauma and heal it before it causes
  lifelong consequences.\n\nGuest Instructor: Jody Johnston-Pawel\, LSW\, C
 FLE\nJody Johnston Pawel is a Licensed Social Worker in the State of Ohio 
 and a Certified Family Life Educator. She is the author of the award-winni
 ng The Parent’s Toolshop® book and Founder/CEO of the Relationship Tool
 shop® International Training Institute. LLC.\n\n***Please Note: This clas
 s will be facilitated on the Zoom platform. Internet access and access to 
 a computer/laptop/tablet/smartphone is required to attend.\nThe link to at
 tend this class will be provided at registration.\nPlease follow the link 
 below for a brief tutorial on how to sign up for a free Zoom account.\nZoo
 m User Guide\n
ATTACH;FMTTYPE=image/jpeg:https://fakce.org/wp-content/uploads/2021/05/Fly
 ing-Boy.jpg
CATEGORIES:Classes,Online Classes,Specialty Classes
LOCATION:Zoom\, 0000 Zoom \, San Diego\, United States
X-APPLE-STRUCTURED-LOCATION;VALUE=URI;X-ADDRESS=0000 Zoom \, San Diego\, Un
 ited States;X-APPLE-RADIUS=100;X-TITLE=Zoom:geo:0,0
END:VEVENT
BEGIN:VTIMEZONE
TZID:America/Los_Angeles
X-LIC-LOCATION:America/Los_Angeles
BEGIN:STANDARD
DTSTART:20251102T010000
TZOFFSETFROM:-0700
TZOFFSETTO:-0800
TZNAME:PST
END:STANDARD
END:VTIMEZONE
END:VCALENDAR