BEGIN:VCALENDAR
VERSION:2.0
PRODID:-//wp-events-plugin.com//7.2.3.1//EN
TZID:America/Los_Angeles
X-WR-TIMEZONE:America/Los_Angeles
BEGIN:VEVENT
UID:18000@fakce.org
DTSTART;TZID=America/Los_Angeles:20251105T160000
DTEND;TZID=America/Los_Angeles:20251105T190000
DTSTAMP:20250822T233947Z
URL:https://fakce.org/events/online-the-resilience-series-introduction-to-
 the-5-pillars-and-skills-that-build-self-awareness-part-1-2025-11-05/
SUMMARY:Online | The Resilience Series: Introduction to the 5 Pillars and S
 kills that Build Self Awareness - Part 1
DESCRIPTION:Four Part Series\nThe Resilience Series is a dynamic four-part 
 program designed to strengthen the five core pillars of resilience: Self-A
 wareness\, Self-Control\, Optimism\, Flexibility\, and Relationships. Each
  session introduces practical\, easy-to-use tools that build on one anothe
 r\, giving participants a complete resilience toolkit to develop each pill
 ar\, stay focused under stress\, adapt to challenges\, and foster stronger
  connections in all areas of life.\n&nbsp\;\n\nInstructor: Andrew Pierce\,
  Resilience Expert \n\nAndrew has trained tens of thousands of people in 
 resilience\, including elite Army Soldiers\, educators\, teens\, resource 
 parents\, and professional athletes. As the Director of the nonprofit "IBo
 unce Up"\, co-founder of the baseball training program "Mindful Player"\, 
 and founder of "Bounce Resilience Training"\, Andrew has dedicated his lif
 e to spreading resilience education to resource parents\, those in addicti
 on recovery\, schools\, and individuals in need throughout Hawaii.\n\nDesc
 ription: Learn the about Event-Thought-Outcome (ETO) Model and Detecting B
 eliefs\n\n\n\n\nNote: While you are welcome to register for each individua
 l part\, if you register for part 1 you will automatically be enrolled in 
 all parts.\nUpcoming Session:\n\n\n 	\nTuesday\, January 27\, 2026 | Click
  Here to Register\n\n 	\nThursday\, February 19\, 2026| Click Here to Regi
 ster\n\n 	\nWednesday\, March 18\, 2026| Click Here to Register\n\n\n&nbsp
 \;\n***Please Note: This class will be facilitated on the Zoom platform.\n
 Internet access and access to a computer/laptop/tablet/smartphone is requi
 red to attend.\nWe kindly request that participants avoid using distractin
 g virtual backgrounds. For privacy\, we recommend using the blur feature i
 nstead.\nYou cannot take this class in a vehicle.\nThe Zoom link to attend
  this class will be provided via email.\nPlease follow the link below for 
 a brief tutorial on how to sign up for a free Zoom account.\nZoom User Gui
 de
ATTACH;FMTTYPE=image/jpeg:https://fakce.org/wp-content/uploads/2021/05/Fly
 ing-Boy.jpg
CATEGORIES:Classes,Online Classes,Specialty Classes
LOCATION:Zoom\, 0000 Zoom \, San Diego\, United States
X-APPLE-STRUCTURED-LOCATION;VALUE=URI;X-ADDRESS=0000 Zoom \, San Diego\, Un
 ited States;X-APPLE-RADIUS=100;X-TITLE=Zoom:geo:0,0
END:VEVENT
BEGIN:VTIMEZONE
TZID:America/Los_Angeles
X-LIC-LOCATION:America/Los_Angeles
BEGIN:STANDARD
DTSTART:20251102T010000
TZOFFSETFROM:-0700
TZOFFSETTO:-0800
TZNAME:PST
END:STANDARD
END:VTIMEZONE
END:VCALENDAR