BEGIN:VCALENDAR
VERSION:2.0
PRODID:-//wp-events-plugin.com//7.2.3.1//EN
TZID:America/Los_Angeles
X-WR-TIMEZONE:America/Los_Angeles
BEGIN:VEVENT
UID:14609@fakce.org
DTSTART;TZID=America/Los_Angeles:20220730T090000
DTEND;TZID=America/Los_Angeles:20220730T153000
DTSTAMP:20220608T211029Z
URL:https://fakce.org/events/online-the-open%e2%80%90hearted-way-to-open-a
 doption-2022-07-30/
SUMMARY:Online | The Open‐Hearted Way to Open Adoption
DESCRIPTION:Description Navigating open adoptions can be very overwhelming 
 and complex. Openness in adoption can bring up a lot of questions and fear
 s in families. In this class\, we will discuss the diﬀerent forms of ope
 n adoption\, validate fears and concerns surrounding open adoptions and gi
 ve you tips on how to navigate the open adoption journey to help your chil
 d and family have a positive open‐hearted adoption that beneﬁts all me
 mbers of the adoption triad.\nRegistration will close on Thursday\, July 2
 8\, 2022\, at 12 pm \n***Please Note: This class will be facilitated on t
 he online platform called Zoom. Internet access and access to a computer/l
 aptop/tablet/smartphone is required to attend.\nThe link to attend this cl
 ass will be provided at registration.\nPlease follow the link below for a 
 brief tutorial on how to sign up for a free Zoom account.\nZoom User Guide
ATTACH;FMTTYPE=image/jpeg:https://fakce.org/wp-content/uploads/2016/08/run
 away.jpg
CATEGORIES:Classes,Online Classes,Specialty Classes
LOCATION:Zoom\, 0000 Zoom \, San Diego\, United States
X-APPLE-STRUCTURED-LOCATION;VALUE=URI;X-ADDRESS=0000 Zoom \, San Diego\, Un
 ited States;X-APPLE-RADIUS=100;X-TITLE=Zoom:geo:0,0
END:VEVENT
BEGIN:VTIMEZONE
TZID:America/Los_Angeles
X-LIC-LOCATION:America/Los_Angeles
BEGIN:DAYLIGHT
DTSTART:20220313T030000
TZOFFSETFROM:-0800
TZOFFSETTO:-0700
TZNAME:PDT
END:DAYLIGHT
END:VTIMEZONE
END:VCALENDAR