BEGIN:VCALENDAR
VERSION:2.0
PRODID:-//wp-events-plugin.com//7.2.3.1//EN
TZID:America/Los_Angeles
X-WR-TIMEZONE:America/Los_Angeles
BEGIN:VEVENT
UID:18467@fakce.org
DTSTART;TZID=America/Los_Angeles:20260130T093000
DTEND;TZID=America/Los_Angeles:20260130T123000
DTSTAMP:20251217T180826Z
URL:https://fakce.org/events/online-the-inherent-strengths-in-kinship-fami
 lies-module-2-legacy-2026-01-30/
SUMMARY:Online | The Inherent Strengths in Kinship Families | Module 2: Leg
 acy
DESCRIPTION:(A training series developed by Dr. Joseph Crumbley for Kinship
  Caregivers)\nInstructors: Heidi Blue\, MSW\n\nDescription: The Inherent S
 trengths in Kinship Families is a strength-based training series developed
  by Dr. Joseph Crumbley for kinship caregivers. Each standalone workshop e
 xplores a topic unique to kinship families\, such as attachment\, legacy\,
  identity\, healing\, adaptability\, and co-parenting\, and provides pract
 ical strategies to support children and strengthen family resilience.\n\nL
 egacy: This workshop explores how sharing legacies can strengthen connecti
 ons between kinship caregivers and children. Caregivers will learn how fam
 ily history\, traditions\, and rites of passage can be used to build stron
 ger bonds\, create new positive legacies\, and interrupt unhelpful family 
 cycles.\n\nDates: \n\n 	Module 3: Identity | Friday\, February 6\, 2026\n
  	Module 4: Healing | Friday\, February 27\, 2026\n 	Module 5: Adaptabilit
 y |Friday\, March 6\, 2026\n 	Module 6: Co-Parenting | Friday\, March 27\,
  2026\n\n**Important Registration Notice**When you register for a class th
 at is part of a series\, you will be automatically registered for all futu
 re sessions in that series.\nHowever\, to receive email or text reminders 
 for each session\, you must register separately for each individual worksh
 op.\n&nbsp\;\nIf you plan on joining us for Part 3\, please click here to 
 register. \n&nbsp\;\n***Please Note: This class will be facilitated on th
 e Zoom platform.\nInternet access and access to a computer/laptop/tablet/s
 martphone is required to attend.\nWe kindly request that participants avoi
 d using distracting virtual backgrounds. For privacy\, we recommend using 
 the blur feature instead.\nYou cannot take this class in a vehicle.\nThe Z
 oom link to attend this class will be provided via email.\nPlease follow t
 he link below for a brief tutorial on how to sign up for a free Zoom accou
 nt.\nZoom User Guide
ATTACH;FMTTYPE=image/jpeg:https://fakce.org/wp-content/uploads/2021/05/Asi
 an-Family.jpg
CATEGORIES:Classes,Online Classes,Specialty Classes
LOCATION:Zoom\, 0000 Zoom \, San Diego\, United States
X-APPLE-STRUCTURED-LOCATION;VALUE=URI;X-ADDRESS=0000 Zoom \, San Diego\, Un
 ited States;X-APPLE-RADIUS=100;X-TITLE=Zoom:geo:0,0
END:VEVENT
BEGIN:VTIMEZONE
TZID:America/Los_Angeles
X-LIC-LOCATION:America/Los_Angeles
BEGIN:STANDARD
DTSTART:20251102T010000
TZOFFSETFROM:-0700
TZOFFSETTO:-0800
TZNAME:PST
END:STANDARD
END:VTIMEZONE
END:VCALENDAR