BEGIN:VCALENDAR
VERSION:2.0
PRODID:-//wp-events-plugin.com//7.2.3.1//EN
TZID:America/Los_Angeles
X-WR-TIMEZONE:America/Los_Angeles
BEGIN:VEVENT
UID:18437@fakce.org
DTSTART;TZID=America/Los_Angeles:20260123T093000
DTEND;TZID=America/Los_Angeles:20260123T123000
DTSTAMP:20260115T205624Z
URL:https://fakce.org/events/online-the-inherent-strengths-in-kinship-fami
 lies-module-1-attachment-2026-01-23/
SUMMARY:Online | The Inherent Strengths in Kinship Families | Module 1: Att
 achment
DESCRIPTION:(A training series developed by Dr. Joseph Crumbley for Kinship
  Caregivers)\nInstructors: Heidi Blue\, MSW\n\nDescription: The Inherent S
 trengths in Kinship Families is a strength-based training series developed
  by Dr. Joseph Crumbley for kinship caregivers. Each standalone workshop e
 xplores a topic unique to kinship families\, such as attachment\, legacy\,
  identity\, healing\, adaptability\, and co-parenting\, and provides pract
 ical strategies to support children and strengthen family resilience.\n\nA
 ttachment: This session describes the unique characteristics and strengths
  of attachments between kinship caregivers and their children. Approaches 
 are provided to enhance their attachments as well. Participants will learn
  to define attachment\, types\, and the impact of attachment\; as well as 
 explain the strengths and advantages of attachments in kinship families an
 d recognize capacities\, levels\, and degrees of attachment. Lastly\, part
 icipants will develop approaches for mediating and strengthening attachmen
 ts.\n\nDates: \n\n 	Module 2: Legacy | Friday\, January 30\, 2026\n 	Modu
 le 3: Identity | Friday\, February 6\, 2026\n 	Module 4: Healing | Friday\
 , February 27\, 2026\n 	Module 5: Adaptability |Friday\, March 6\, 2026\n 
 	Module 6: Co-Parenting | Friday\, March 27\, 2026\n\n**Important Registra
 tion Notice**When you register for a class that is part of a series\, you 
 will be automatically registered for all future sessions in that series.\n
 However\, to receive email or text reminders for each session\, you must r
 egister separately for each individual workshop.\n&nbsp\;\nIf you plan on 
 joining us for Part 2\, please click here to register. \n&nbsp\;\n***Plea
 se Note: This class will be facilitated on the Zoom platform.\nInternet ac
 cess and access to a computer/laptop/tablet/smartphone is required to atte
 nd.\nWe kindly request that participants avoid using distracting virtual b
 ackgrounds. For privacy\, we recommend using the blur feature instead.\nYo
 u cannot take this class in a vehicle.\nThe Zoom link to attend this class
  will be provided via email.\nPlease follow the link below for a brief tut
 orial on how to sign up for a free Zoom account.\nZoom User Guide
ATTACH;FMTTYPE=image/jpeg:https://fakce.org/wp-content/uploads/2021/05/Asi
 an-Family.jpg
CATEGORIES:Classes,Online Classes,Specialty Classes
LOCATION:Zoom\, 0000 Zoom \, San Diego\, United States
X-APPLE-STRUCTURED-LOCATION;VALUE=URI;X-ADDRESS=0000 Zoom \, San Diego\, Un
 ited States;X-APPLE-RADIUS=100;X-TITLE=Zoom:geo:0,0
END:VEVENT
BEGIN:VTIMEZONE
TZID:America/Los_Angeles
X-LIC-LOCATION:America/Los_Angeles
BEGIN:STANDARD
DTSTART:20251102T010000
TZOFFSETFROM:-0700
TZOFFSETTO:-0800
TZNAME:PST
END:STANDARD
END:VTIMEZONE
END:VCALENDAR