BEGIN:VCALENDAR
VERSION:2.0
PRODID:-//wp-events-plugin.com//7.2.3.1//EN
TZID:America/Los_Angeles
X-WR-TIMEZONE:America/Los_Angeles
BEGIN:VEVENT
UID:14117@fakce.org
DTSTART;TZID=America/Los_Angeles:20220223T180000
DTEND;TZID=America/Los_Angeles:20220223T200000
DTSTAMP:20211215T172601Z
URL:https://fakce.org/events/online-the-importance-of-internet-safety-at-h
 ome-2022-02-23/
SUMMARY:Online | The Importance of Internet Safety at Home
DESCRIPTION:As adults and children alike have turned to digital tools for s
 chool\, work\, and socialization\, online safety matters now more than eve
 r. This workshop is a must for all caregivers. Come hear from a San Diego 
 Police\nDepartment expert about internet safety at home for you and for yo
 ur children.\nRegistration will close on Wednesday\, February 23\, 2022 at
  7 am\n***Please Note: This class will be facilitated on the online platfo
 rm called Zoom. Internet access and access to a computer/laptop/tablet/sma
 rtphone is required to attend.\nThe link to attend this class will be prov
 ided at registration.\nPlease follow the link below for a brief tutorial o
 n how to sign up for a free Zoom account.\nZoom User Guide
ATTACH;FMTTYPE=image/jpeg:https://fakce.org/wp-content/uploads/2016/07/Pic
 ture1.jpg
CATEGORIES:Classes,Online Classes,Specialty Classes
LOCATION:Zoom\, 0000 Zoom \, San Diego\, United States
X-APPLE-STRUCTURED-LOCATION;VALUE=URI;X-ADDRESS=0000 Zoom \, San Diego\, Un
 ited States;X-APPLE-RADIUS=100;X-TITLE=Zoom:geo:0,0
END:VEVENT
BEGIN:VTIMEZONE
TZID:America/Los_Angeles
X-LIC-LOCATION:America/Los_Angeles
BEGIN:STANDARD
DTSTART:20211107T010000
TZOFFSETFROM:-0700
TZOFFSETTO:-0800
TZNAME:PST
END:STANDARD
END:VTIMEZONE
END:VCALENDAR