BEGIN:VCALENDAR
VERSION:2.0
PRODID:-//wp-events-plugin.com//7.2.3.1//EN
TZID:America/Los_Angeles
X-WR-TIMEZONE:America/Los_Angeles
BEGIN:VEVENT
UID:17951@fakce.org
DTSTART;TZID=America/Los_Angeles:20251014T180000
DTEND;TZID=America/Los_Angeles:20251014T200000
DTSTAMP:20250821T151131Z
URL:https://fakce.org/events/online-the-impact-of-social-media-on-children
 s-mental-health-2025-10-14/
SUMMARY:Online | The Impact of Social Media on Children's Mental Health
DESCRIPTION:Instructors: Representatives from Scripps Mercy Hospital’s We
 ll‐Being Center\nDescription: Explore the psychological and emotional e
 ﬀects of social media on children and teens. This class oﬀers guidance
  on setting boundaries\, fostering healthy media habits\, and understandin
 g warning signs of social media-related stress\, anxiety\, or depression. 
 Help caregivers identify risks and support healthy digital habits to prote
 ct children’s mental well-being.\n \n***Please Note: This class will be
  facilitated on the Zoom platform.\nInternet access and access to a comput
 er/laptop/tablet/smartphone is required to attend.\nWe kindly request that
  participants avoid using distracting virtual backgrounds. For privacy\, w
 e recommend using the blur feature instead.\nYou cannot take this class in
  a vehicle.\nThe Zoom link to attend this class will be provided via email
 .\nPlease follow the link below for a brief tutorial on how to sign up for
  a free Zoom account.\nZoom User Guide
ATTACH;FMTTYPE=image/jpeg:https://fakce.org/wp-content/uploads/2023/04/ist
 ockphoto-920732910-612x612-1.jpg
CATEGORIES:Classes,Online Classes,Specialty Classes
LOCATION:Zoom\, 0000 Zoom \, San Diego\, United States
X-APPLE-STRUCTURED-LOCATION;VALUE=URI;X-ADDRESS=0000 Zoom \, San Diego\, Un
 ited States;X-APPLE-RADIUS=100;X-TITLE=Zoom:geo:0,0
END:VEVENT
BEGIN:VTIMEZONE
TZID:America/Los_Angeles
X-LIC-LOCATION:America/Los_Angeles
BEGIN:DAYLIGHT
DTSTART:20250309T030000
TZOFFSETFROM:-0800
TZOFFSETTO:-0700
TZNAME:PDT
END:DAYLIGHT
END:VTIMEZONE
END:VCALENDAR