BEGIN:VCALENDAR
VERSION:2.0
PRODID:-//wp-events-plugin.com//7.2.3.1//EN
TZID:America/Los_Angeles
X-WR-TIMEZONE:America/Los_Angeles
BEGIN:VEVENT
UID:15607@fakce.org
DTSTART;TZID=America/Los_Angeles:20230328T180000
DTEND;TZID=America/Los_Angeles:20230328T200000
DTSTAMP:20230327T210426Z
URL:https://fakce.org/events/online-the-health-consequences-of-youth-using
 -vapes-e-cigarettes-2023-03-28/
SUMMARY:Online | The Health Consequences of Youth Using Vapes & E-Cigarette
 s
DESCRIPTION:Tobacco rates among teens has decreased however\, nicotine addi
 ction is on the rise. According to a recent report\, “42% of San Diego h
 igh school students have vaped”. Studies have demonstrated that nicotine
  affects a teen’s “brain development\, attention span\, memory\, and l
 earning capability”. Vapes and e‐cigarettes' often come in colorful an
 d bright packages and in unique flavors like “Sour Gummy Worm” and “
 Unicorn Poop” that hook young teens.\n Registration will close on Tuesd
 ay\, March 28\, 2023 at 7 am \n&nbsp\;\n***Please Note: This class will 
 be facilitated on the online platform called Zoom. Internet access and acc
 ess to a computer/laptop/tablet/smartphone is required to attend.\nThe lin
 k to attend this class will be provided at registration.\nPlease follow th
 e link below for a brief tutorial on how to sign up for a free Zoom accoun
 t.\nZoom User Guide
ATTACH;FMTTYPE=image/jpeg:https://fakce.org/wp-content/uploads/2016/04/fri
 ends-1262152_1280.jpg
CATEGORIES:Classes,Online Classes,Specialty Classes
LOCATION:Zoom\, 0000 Zoom \, San Diego\, United States
X-APPLE-STRUCTURED-LOCATION;VALUE=URI;X-ADDRESS=0000 Zoom \, San Diego\, Un
 ited States;X-APPLE-RADIUS=100;X-TITLE=Zoom:geo:0,0
END:VEVENT
BEGIN:VTIMEZONE
TZID:America/Los_Angeles
X-LIC-LOCATION:America/Los_Angeles
BEGIN:DAYLIGHT
DTSTART:20230312T030000
TZOFFSETFROM:-0800
TZOFFSETTO:-0700
TZNAME:PDT
END:DAYLIGHT
END:VTIMEZONE
END:VCALENDAR