BEGIN:VCALENDAR
VERSION:2.0
PRODID:-//wp-events-plugin.com//7.2.3.1//EN
TZID:America/Los_Angeles
X-WR-TIMEZONE:America/Los_Angeles
BEGIN:VEVENT
UID:15772@fakce.org
DTSTART;TZID=America/Los_Angeles:20230711T100000
DTEND;TZID=America/Los_Angeles:20230711T120000
DTSTAMP:20230607T200152Z
URL:https://fakce.org/events/online-the-client-connection-2023-07-11/
SUMMARY:Online | The Client Connection
DESCRIPTION:Partnership with the National Conflict Resolution Center\n&nbsp
 \;\nThrough interactive exercises\, NCRC teaches best practices for managi
 ng upset people\, including learning how to understand what the anger mean
 s to the person. Participants also learn skills for handling situations in
  which they must convey information to agitated people that those people m
 ay not want to hear. The better prepared and skilled we are for handling t
 hese difficult conversations\, the better our connections be.\nRegistratio
 n will close on Monday\, July 10\, 2023 at 12pm \n***Please Note: This cl
 ass will be facilitated on the online platform called Zoom. Internet acces
 s and access to a computer/laptop/tablet/smartphone is required to attend.
 \nThe link to attend this class will be provided at registration.\nPlease 
 follow the link below for a brief tutorial on how to sign up for a free Zo
 om account.\nZoom User Guide
ATTACH;FMTTYPE=image/jpeg:https://fakce.org/wp-content/uploads/2016/03/boy
 -928655_1280.jpg
CATEGORIES:Classes,Online Classes,Specialty Classes
LOCATION:Zoom\, 0000 Zoom \, San Diego\, United States
X-APPLE-STRUCTURED-LOCATION;VALUE=URI;X-ADDRESS=0000 Zoom \, San Diego\, Un
 ited States;X-APPLE-RADIUS=100;X-TITLE=Zoom:geo:0,0
END:VEVENT
BEGIN:VTIMEZONE
TZID:America/Los_Angeles
X-LIC-LOCATION:America/Los_Angeles
BEGIN:DAYLIGHT
DTSTART:20230312T030000
TZOFFSETFROM:-0800
TZOFFSETTO:-0700
TZNAME:PDT
END:DAYLIGHT
END:VTIMEZONE
END:VCALENDAR