BEGIN:VCALENDAR
VERSION:2.0
PRODID:-//wp-events-plugin.com//7.2.3.1//EN
TZID:America/Los_Angeles
X-WR-TIMEZONE:America/Los_Angeles
BEGIN:VEVENT
UID:13763@fakce.org
DTSTART;TZID=America/Los_Angeles:20220129T090000
DTEND;TZID=America/Los_Angeles:20220129T153000
DTSTAMP:20211207T204540Z
URL:https://fakce.org/events/online-the-body-keeps-the-score-2022-01-29/
SUMMARY:Online | The Body Keeps the Score
DESCRIPTION:When caring for children within the foster system\, trauma is a
  fact of life. It aﬀects our children's behaviors\, feelings\, ability 
 to trust and attach to others and how their bodies feel. As caregivers\, g
 rowing our understanding of these eﬀects and being given the tools to no
 t only help our children survive\, but also recover and thrive in spite of
  these trauma's is essential to being capable caregivers. Participants wil
 l gain a deeper understanding of the brain and body connection\, recognize
  the power of relationships to hurt and to heal and discover innovative tr
 eatments to assist their child and family on the road to recovery.\nRegist
 ration will close on Friday\, January 28\, 2022 at 12pm\n***Please Note: T
 his class will be facilitated on the online platform called Zoom. Internet
  access and access to a computer/laptop/tablet/smartphone is required to a
 ttend.\nThe link to attend this class will be provided at registration.\nP
 lease follow the link below for a brief tutorial on how to sign up for a f
 ree Zoom account.\nZoom User Guide
ATTACH;FMTTYPE=image/jpeg:https://fakce.org/wp-content/uploads/2021/05/Fly
 ing-Boy.jpg
CATEGORIES:Classes,Online Classes,Specialty Classes
LOCATION:Zoom\, 0000 Zoom \, San Diego\, United States
X-APPLE-STRUCTURED-LOCATION;VALUE=URI;X-ADDRESS=0000 Zoom \, San Diego\, Un
 ited States;X-APPLE-RADIUS=100;X-TITLE=Zoom:geo:0,0
END:VEVENT
BEGIN:VTIMEZONE
TZID:America/Los_Angeles
X-LIC-LOCATION:America/Los_Angeles
BEGIN:STANDARD
DTSTART:20211107T010000
TZOFFSETFROM:-0700
TZOFFSETTO:-0800
TZNAME:PST
END:STANDARD
END:VTIMEZONE
END:VCALENDAR