BEGIN:VCALENDAR
VERSION:2.0
PRODID:-//wp-events-plugin.com//7.2.3.1//EN
TZID:America/Los_Angeles
X-WR-TIMEZONE:America/Los_Angeles
BEGIN:VEVENT
UID:18430@fakce.org
DTSTART;TZID=America/Los_Angeles:20260120T100000
DTEND;TZID=America/Los_Angeles:20260120T120000
DTSTAMP:20251212T205222Z
URL:https://fakce.org/events/online-the-art-of-inclusive-communication-202
 6-01-20/
SUMMARY:Online | The ART of Inclusive Communication
DESCRIPTION:\nIn partnership with the National Conflict Resolution Center\n
 Instructors: Representative from National Conflict Resolution Center\n\nDe
 scription:This interactive workshop helps participants explore how persona
 l and cultural identities shape communication and can sometimes lead to mi
 sunderstandings. Through guided reflection and practical exercises\, careg
 ivers learn to recognize communication breakdowns as they happen\, respond
  proactively\, and create more inclusive\, respectful interactions across 
 differences in culture\, gender\, race\, generation\, and lived experience
 . The training also provides tools for addressing harmful or biased commen
 ts in a safe\, constructive way\, strengthening connection and understandi
 ng within diverse environments.\n***Please Note: This class will be facili
 tated on the Zoom platform.\nInternet access and access to a computer/lapt
 op/tablet/smartphone is required to attend.\nWe kindly request that partic
 ipants avoid using distracting virtual backgrounds. For privacy\, we recom
 mend using the blur feature instead.\nYou cannot take this class in a vehi
 cle.\nThe Zoom link to attend this class will be provided via email.\nPlea
 se follow the link below for a brief tutorial on how to sign up for a free
  Zoom account.\nZoom User Guide
ATTACH;FMTTYPE=image/jpeg:https://fakce.org/wp-content/uploads/2023/04/ist
 ockphoto-1313553003-612x612-1.jpg
CATEGORIES:Classes,Online Classes,Specialty Classes
LOCATION:Zoom\, 0000 Zoom \, San Diego\, United States
X-APPLE-STRUCTURED-LOCATION;VALUE=URI;X-ADDRESS=0000 Zoom \, San Diego\, Un
 ited States;X-APPLE-RADIUS=100;X-TITLE=Zoom:geo:0,0
END:VEVENT
BEGIN:VTIMEZONE
TZID:America/Los_Angeles
X-LIC-LOCATION:America/Los_Angeles
BEGIN:STANDARD
DTSTART:20251102T010000
TZOFFSETFROM:-0700
TZOFFSETTO:-0800
TZNAME:PST
END:STANDARD
END:VTIMEZONE
END:VCALENDAR