BEGIN:VCALENDAR
VERSION:2.0
PRODID:-//wp-events-plugin.com//7.2.3.1//EN
TZID:America/Los_Angeles
X-WR-TIMEZONE:America/Los_Angeles
BEGIN:VEVENT
UID:17348@fakce.org
DTSTART;TZID=America/Los_Angeles:20250122T093000
DTEND;TZID=America/Los_Angeles:20250122T123000
DTSTAMP:20241218T200723Z
URL:https://fakce.org/events/online-from-trauma-to-triumph-a-resource-pare
 nts-journey-through-the-7-core-issues-session-1-2025-01-22/
SUMMARY:Online | From Trauma to Triumph:  A Resource Parents Journey Throug
 h The 7 Core Issues - Session 1
DESCRIPTION:Instructor: Allison Davis Maxon\, LMFT\nAbout: Allison Davis Ma
 xon is a nationally recognized expert in Complex Developmental Trauma and 
 children’s mental health specializing in Attachment and Permanency/Adopt
 ion. She is a mother\, a trauma therapist and an author/lecturer. Join All
 ison for a journey into the emotional demands and challenges parents exper
 ience as they attach and parent children and teens with core losses and de
 velopmental trauma. The series will use The Seven Core Issues Workbook for
  Parents of Traumatized Children and Teens: A Guide to Help You Explore Fe
 elings and Overcome Emotional Challenges in Your Family.\n\n&nbsp\;\n\n&nb
 sp\;\n\n&nbsp\;\n\n&nbsp\;\nWe Cannot Heal What We Cannot Acknowledge!\nPa
 rents bring their own childhood histories of attachment and emotional adve
 rsity into the intimate attachment dance between themselves and their chil
 d. JOIN US for this powerful series where parents will gain insight\, self
 -awareness\, and tools to deepen their self-reflective process and strengt
 hen emotional regulation. Your child’s healing is deeply connected to yo
 ur own healing. Guided by Allison\, embark on a journey into parental iden
 tity and discover strategies to heal your inner narrative and enhance the 
 attachment relationship between you and your child or teen.\n\nSeries of 
  7 Wednesday's \n\n 	Session 2: Rejection | Wednesday\, February 12\, 2025
  \n 	Session 3: Shame &amp\; Grief | Wednesday\, March 5\, 2025\n 	Sessio
 n 4: Grief | Wednesday\, April 2\, 2025\n 	Session 5: Identity | Wednesday
 \, April 30\, 2025\n 	Session 6: Intimacy | Wednesday\, May 21\, 2025\n 	S
 ession 7: Mastery &amp\; Control | Wednesday\, June 11\, 2025\n\n****Separ
 ate registration is required for each individual workshop\n&nbsp\;\nRegist
 ration will close on Tuesday\, January 21\,2025 at 12pm \n&nbsp\;\nIf you
  plan on joining us for Part 2\, please click here to register. \n***Plea
 se Note: This class will be facilitated on the Zoom platform.\nInternet ac
 cess and access to a computer/laptop/tablet/smartphone is required to atte
 nd.\nWe kindly request that participants avoid using distracting virtual b
 ackgrounds. For privacy\, we recommend using the blur feature instead.\nYo
 u cannot take this class in a vehicle.\nThe Zoom link to attend this class
  will be provided via email.\nPlease follow the link below for a brief tut
 orial on how to sign up for a free Zoom account.\nZoom User Guide
ATTACH;FMTTYPE=image/jpeg:https://fakce.org/wp-content/uploads/2024/11/ima
 ge-dec-2022.jpeg
CATEGORIES:Classes,Online Classes,Specialty Classes
LOCATION:Zoom\, 0000 Zoom \, San Diego\, United States
X-APPLE-STRUCTURED-LOCATION;VALUE=URI;X-ADDRESS=0000 Zoom \, San Diego\, Un
 ited States;X-APPLE-RADIUS=100;X-TITLE=Zoom:geo:0,0
END:VEVENT
BEGIN:VTIMEZONE
TZID:America/Los_Angeles
X-LIC-LOCATION:America/Los_Angeles
BEGIN:STANDARD
DTSTART:20241103T010000
TZOFFSETFROM:-0700
TZOFFSETTO:-0800
TZNAME:PST
END:STANDARD
END:VTIMEZONE
END:VCALENDAR