BEGIN:VCALENDAR
VERSION:2.0
PRODID:-//wp-events-plugin.com//7.2.3.1//EN
TZID:America/Los_Angeles
X-WR-TIMEZONE:America/Los_Angeles
BEGIN:VEVENT
UID:14164@fakce.org
DTSTART;TZID=America/Los_Angeles:20220315T180000
DTEND;TZID=America/Los_Angeles:20220315T200000
DTSTAMP:20220207T213724Z
URL:https://fakce.org/events/online-teen-mental-health-and-wellness-2022-0
 3-15/
SUMMARY:Online | Teen Mental Health and Wellness
DESCRIPTION:This course will provide parents with information on the import
 ance of taking care of one’s mental health\, and the need for incorporat
 ing this practice in a foster child’s overall health. Parents will be gi
 ven tools to have an open conversation with their foster child on this top
 ic and be provided forms to exercise their mental health.\n\nRegistration 
 will close on Tuesday\, March 15\, 2022\, at 7 am\n***Please Note: This cl
 ass will be facilitated on the online platform called Zoom. Internet acces
 s and access to a computer/laptop/tablet/smartphone is required to attend.
 \nThe link to attend this class will be provided at registration.\nPlease 
 follow the link below for a brief tutorial on how to sign up for a free Zo
 om account.\nZoom User Guide
ATTACH;FMTTYPE=image/jpeg:https://fakce.org/wp-content/uploads/2016/08/o-C
 LASSROOM-facebook.jpg
CATEGORIES:Classes,Online Classes,Specialty Classes
LOCATION:Zoom\, 0000 Zoom \, San Diego\, United States
X-APPLE-STRUCTURED-LOCATION;VALUE=URI;X-ADDRESS=0000 Zoom \, San Diego\, Un
 ited States;X-APPLE-RADIUS=100;X-TITLE=Zoom:geo:0,0
END:VEVENT
BEGIN:VTIMEZONE
TZID:America/Los_Angeles
X-LIC-LOCATION:America/Los_Angeles
BEGIN:DAYLIGHT
DTSTART:20220313T030000
TZOFFSETFROM:-0800
TZOFFSETTO:-0700
TZNAME:PDT
END:DAYLIGHT
END:VTIMEZONE
END:VCALENDAR