BEGIN:VCALENDAR
VERSION:2.0
PRODID:-//wp-events-plugin.com//7.2.3.1//EN
TZID:America/Los_Angeles
X-WR-TIMEZONE:America/Los_Angeles
BEGIN:VEVENT
UID:18447@fakce.org
DTSTART;TZID=America/Los_Angeles:20260210T180000
DTEND;TZID=America/Los_Angeles:20260210T200000
DTSTAMP:20260115T204833Z
URL:https://fakce.org/events/online-technology-and-cognitive-development-2
 026-02-10/
SUMMARY:Online | Technology and Cognitive Development
DESCRIPTION:Instructor: Representative from Scripps Mercy Hospital’s Well
  Being\n\nDescription: This session explores how technology use affects co
 gnitive development in children and adolescents. Foster parents will learn
  the risks and benefits of screen time\, and how to guide healthy tech hab
 its in the home.\n \n***Please Note: This class will be facilitated on th
 e online platform called Zoom. Internet access and access to a computer/la
 ptop/tablet/smartphone is required to attend.\nThe link to attend this cla
 ss will be provided at registration.\nPlease follow the link below for a b
 rief tutorial on how to sign up for a free Zoom account.\nZoom User Guide
ATTACH;FMTTYPE=image/jpeg:https://fakce.org/wp-content/uploads/2019/01/tee
 n-and-parent.jpg
CATEGORIES:Classes,Online Classes,Specialty Classes
LOCATION:Zoom\, 0000 Zoom \, San Diego\, United States
X-APPLE-STRUCTURED-LOCATION;VALUE=URI;X-ADDRESS=0000 Zoom \, San Diego\, Un
 ited States;X-APPLE-RADIUS=100;X-TITLE=Zoom:geo:0,0
END:VEVENT
BEGIN:VTIMEZONE
TZID:America/Los_Angeles
X-LIC-LOCATION:America/Los_Angeles
BEGIN:STANDARD
DTSTART:20251102T010000
TZOFFSETFROM:-0700
TZOFFSETTO:-0800
TZNAME:PST
END:STANDARD
END:VTIMEZONE
END:VCALENDAR